BEGIN:VCALENDAR
VERSION:2.0
PRODID:-//Kloster Ettal - ECPv6.15.20//NONSGML v1.0//EN
CALSCALE:GREGORIAN
METHOD:PUBLISH
X-ORIGINAL-URL:https://www.kloster-ettal.de
X-WR-CALDESC:Veranstaltungen für Kloster Ettal
REFRESH-INTERVAL;VALUE=DURATION:PT1H
X-Robots-Tag:noindex
X-PUBLISHED-TTL:PT1H
BEGIN:VTIMEZONE
TZID:Europe/Berlin
BEGIN:DAYLIGHT
TZOFFSETFROM:+0100
TZOFFSETTO:+0200
TZNAME:CEST
DTSTART:20250330T010000
END:DAYLIGHT
BEGIN:STANDARD
TZOFFSETFROM:+0200
TZOFFSETTO:+0100
TZNAME:CET
DTSTART:20251026T010000
END:STANDARD
BEGIN:DAYLIGHT
TZOFFSETFROM:+0100
TZOFFSETTO:+0200
TZNAME:CEST
DTSTART:20260329T010000
END:DAYLIGHT
BEGIN:STANDARD
TZOFFSETFROM:+0200
TZOFFSETTO:+0100
TZNAME:CET
DTSTART:20261025T010000
END:STANDARD
BEGIN:DAYLIGHT
TZOFFSETFROM:+0100
TZOFFSETTO:+0200
TZNAME:CEST
DTSTART:20270328T010000
END:DAYLIGHT
BEGIN:STANDARD
TZOFFSETFROM:+0200
TZOFFSETTO:+0100
TZNAME:CET
DTSTART:20271031T010000
END:STANDARD
END:VTIMEZONE
BEGIN:VEVENT
DTSTART;TZID=Europe/Berlin:20260421T150000
DTEND;TZID=Europe/Berlin:20260421T150000
DTSTAMP:20260421T131656
CREATED:20260211T150403Z
LAST-MODIFIED:20260211T150408Z
UID:63622-1776783600-1776783600@www.kloster-ettal.de
SUMMARY:Brauereiführung
DESCRIPTION:Wir zeigen Ihnen\, wie das berühmte Ettaler Bier nach alter Handwerkstradition gebraut wird – mit anschließender Verkostung. \n\nDauer: 60 Minuten inkl. Bierprobe\nKosten: 12\,00 € pro Person\nKinder bis 12 Jahre frei (Jugendliche zwischen 12 und 18 Jahre: 50% Ermäßigung)
URL:https://www.kloster-ettal.de/event/brauereifuehrung-28/
LOCATION:Klosterbrauerei\, Kaiser-Ludwig-Platz 1\, Ettal\, Bayern\, 82488\, Germany
CATEGORIES:Führung
ATTACH;FMTTYPE=image/webp:https://www.kloster-ettal.de/wp-content/uploads/2025/03/brauereifuehrung-veranstaltung.webp
END:VEVENT
BEGIN:VEVENT
DTSTART;TZID=Europe/Berlin:20260423T150000
DTEND;TZID=Europe/Berlin:20260423T150000
DTSTAMP:20260421T131656
CREATED:20260211T144413Z
LAST-MODIFIED:20260211T144418Z
UID:63585-1776956400-1776956400@www.kloster-ettal.de
SUMMARY:Basilikaführung
DESCRIPTION:Erleben Sie die barocke Pracht der Basilika Ettal und erfahren Sie mehr über ihre Architektur\, das berühmte Gnadenbild und die jahrhundertealte Geschichte der Benediktiner. \n\nDauer: 30-45 Minuten\nKosten: 5\,00 € pro Person (Kinder bis 12 Jahre sind frei\, Jugendlichen zwischen 12-18 Jahren erhalten 50% Ermäßigung)\nEinschränkungen: An Feiertagen sowie bei klösterlichen Veranstaltungen und während Gottesdiensten finden die Führungen nicht statt
URL:https://www.kloster-ettal.de/event/basilikafuehrung-31/
LOCATION:Basilika
CATEGORIES:Führung
ATTACH;FMTTYPE=image/webp:https://www.kloster-ettal.de/wp-content/uploads/2025/03/fuehrung-durch-die-basilika.webp
END:VEVENT
BEGIN:VEVENT
DTSTART;TZID=Europe/Berlin:20260423T160000
DTEND;TZID=Europe/Berlin:20260423T160000
DTSTAMP:20260421T131656
CREATED:20260211T152515Z
LAST-MODIFIED:20260211T152520Z
UID:63681-1776960000-1776960000@www.kloster-ettal.de
SUMMARY:Liqueurmanufaktur-Führung
DESCRIPTION:In unserer Manufaktur entstehen nach überlieferten Rezepten edle Kräuterliköre und Destillate\, deren Herstellung wir Ihnen gerne näher bringen. \n\nDauer 45 Minuten\, inkl. Likörprobe\nKosten: 9\,00 € pro Person\nKinder bis 12 Jahre sind frei (Jugendliche zwischen 12 und 18 Jahre erhalten 50% Ermäßigung
URL:https://www.kloster-ettal.de/event/liqueurmanufaktur-fuehrung-32/
LOCATION:Liqueurmanufaktur\, Kaiser-Ludwig-Platz 1\, Ettal\, Bayern\, 82488\, Germany
CATEGORIES:Führung
ATTACH;FMTTYPE=image/webp:https://www.kloster-ettal.de/wp-content/uploads/2025/03/liqueurmanufaktur-fuehrung.webp
END:VEVENT
BEGIN:VEVENT
DTSTART;TZID=Europe/Berlin:20260427T150000
DTEND;TZID=Europe/Berlin:20260427T150000
DTSTAMP:20260421T131656
CREATED:20260211T144436Z
LAST-MODIFIED:20260211T144440Z
UID:63584-1777302000-1777302000@www.kloster-ettal.de
SUMMARY:Basilikaführung
DESCRIPTION:Erleben Sie die barocke Pracht der Basilika Ettal und erfahren Sie mehr über ihre Architektur\, das berühmte Gnadenbild und die jahrhundertealte Geschichte der Benediktiner. \n\nDauer: 30-45 Minuten\nKosten: 5\,00 € pro Person (Kinder bis 12 Jahre sind frei\, Jugendlichen zwischen 12-18 Jahren erhalten 50% Ermäßigung)\nEinschränkungen: An Feiertagen sowie bei klösterlichen Veranstaltungen und während Gottesdiensten finden die Führungen nicht statt
URL:https://www.kloster-ettal.de/event/basilikafuehrung-32/
LOCATION:Basilika
CATEGORIES:Führung
ATTACH;FMTTYPE=image/webp:https://www.kloster-ettal.de/wp-content/uploads/2025/03/fuehrung-durch-die-basilika.webp
END:VEVENT
BEGIN:VEVENT
DTSTART;TZID=Europe/Berlin:20260427T160000
DTEND;TZID=Europe/Berlin:20260427T160000
DTSTAMP:20260421T131656
CREATED:20260211T152623Z
LAST-MODIFIED:20260211T152628Z
UID:63695-1777305600-1777305600@www.kloster-ettal.de
SUMMARY:Liqueurmanufaktur-Führung
DESCRIPTION:In unserer Manufaktur entstehen nach überlieferten Rezepten edle Kräuterliköre und Destillate\, deren Herstellung wir Ihnen gerne näher bringen. \n\nDauer 45 Minuten\, inkl. Likörprobe\nKosten: 9\,00 € pro Person\nKinder bis 12 Jahre sind frei (Jugendliche zwischen 12 und 18 Jahre erhalten 50% Ermäßigung
URL:https://www.kloster-ettal.de/event/liqueurmanufaktur-fuehrung-33/
LOCATION:Liqueurmanufaktur\, Kaiser-Ludwig-Platz 1\, Ettal\, Bayern\, 82488\, Germany
CATEGORIES:Führung
ATTACH;FMTTYPE=image/webp:https://www.kloster-ettal.de/wp-content/uploads/2025/03/liqueurmanufaktur-fuehrung.webp
END:VEVENT
BEGIN:VEVENT
DTSTART;TZID=Europe/Berlin:20260428T150000
DTEND;TZID=Europe/Berlin:20260428T150000
DTSTAMP:20260421T131656
CREATED:20260211T150459Z
LAST-MODIFIED:20260211T150504Z
UID:63620-1777388400-1777388400@www.kloster-ettal.de
SUMMARY:Brauereiführung
DESCRIPTION:Wir zeigen Ihnen\, wie das berühmte Ettaler Bier nach alter Handwerkstradition gebraut wird – mit anschließender Verkostung. \n\nDauer: 60 Minuten inkl. Bierprobe\nKosten: 12\,00 € pro Person\nKinder bis 12 Jahre frei (Jugendliche zwischen 12 und 18 Jahre: 50% Ermäßigung)
URL:https://www.kloster-ettal.de/event/brauereifuehrung-30/
LOCATION:Klosterbrauerei\, Kaiser-Ludwig-Platz 1\, Ettal\, Bayern\, 82488\, Germany
CATEGORIES:Führung
ATTACH;FMTTYPE=image/webp:https://www.kloster-ettal.de/wp-content/uploads/2025/03/brauereifuehrung-veranstaltung.webp
END:VEVENT
BEGIN:VEVENT
DTSTART;TZID=Europe/Berlin:20260430T150000
DTEND;TZID=Europe/Berlin:20260430T150000
DTSTAMP:20260421T131656
CREATED:20260211T144505Z
LAST-MODIFIED:20260211T144509Z
UID:63583-1777561200-1777561200@www.kloster-ettal.de
SUMMARY:Basilikaführung
DESCRIPTION:Erleben Sie die barocke Pracht der Basilika Ettal und erfahren Sie mehr über ihre Architektur\, das berühmte Gnadenbild und die jahrhundertealte Geschichte der Benediktiner. \n\nDauer: 30-45 Minuten\nKosten: 5\,00 € pro Person (Kinder bis 12 Jahre sind frei\, Jugendlichen zwischen 12-18 Jahren erhalten 50% Ermäßigung)\nEinschränkungen: An Feiertagen sowie bei klösterlichen Veranstaltungen und während Gottesdiensten finden die Führungen nicht statt
URL:https://www.kloster-ettal.de/event/basilikafuehrung-33/
LOCATION:Basilika
CATEGORIES:Führung
ATTACH;FMTTYPE=image/webp:https://www.kloster-ettal.de/wp-content/uploads/2025/03/fuehrung-durch-die-basilika.webp
END:VEVENT
BEGIN:VEVENT
DTSTART;TZID=Europe/Berlin:20260430T160000
DTEND;TZID=Europe/Berlin:20260430T160000
DTSTAMP:20260421T131656
CREATED:20260211T152649Z
LAST-MODIFIED:20260211T152654Z
UID:63694-1777564800-1777564800@www.kloster-ettal.de
SUMMARY:Liqueurmanufaktur-Führung
DESCRIPTION:In unserer Manufaktur entstehen nach überlieferten Rezepten edle Kräuterliköre und Destillate\, deren Herstellung wir Ihnen gerne näher bringen. \n\nDauer 45 Minuten\, inkl. Likörprobe\nKosten: 9\,00 € pro Person\nKinder bis 12 Jahre sind frei (Jugendliche zwischen 12 und 18 Jahre erhalten 50% Ermäßigung
URL:https://www.kloster-ettal.de/event/liqueurmanufaktur-fuehrung-34/
LOCATION:Liqueurmanufaktur\, Kaiser-Ludwig-Platz 1\, Ettal\, Bayern\, 82488\, Germany
CATEGORIES:Führung
ATTACH;FMTTYPE=image/webp:https://www.kloster-ettal.de/wp-content/uploads/2025/03/liqueurmanufaktur-fuehrung.webp
END:VEVENT
END:VCALENDAR