BEGIN:VCALENDAR
VERSION:2.0
PRODID:-//Kloster Ettal - ECPv6.15.20//NONSGML v1.0//EN
CALSCALE:GREGORIAN
METHOD:PUBLISH
X-WR-CALNAME:Kloster Ettal
X-ORIGINAL-URL:https://www.kloster-ettal.de
X-WR-CALDESC:Veranstaltungen für Kloster Ettal
REFRESH-INTERVAL;VALUE=DURATION:PT1H
X-Robots-Tag:noindex
X-PUBLISHED-TTL:PT1H
BEGIN:VTIMEZONE
TZID:Europe/Berlin
BEGIN:DAYLIGHT
TZOFFSETFROM:+0100
TZOFFSETTO:+0200
TZNAME:CEST
DTSTART:20250330T010000
END:DAYLIGHT
BEGIN:STANDARD
TZOFFSETFROM:+0200
TZOFFSETTO:+0100
TZNAME:CET
DTSTART:20251026T010000
END:STANDARD
BEGIN:DAYLIGHT
TZOFFSETFROM:+0100
TZOFFSETTO:+0200
TZNAME:CEST
DTSTART:20260329T010000
END:DAYLIGHT
BEGIN:STANDARD
TZOFFSETFROM:+0200
TZOFFSETTO:+0100
TZNAME:CET
DTSTART:20261025T010000
END:STANDARD
BEGIN:DAYLIGHT
TZOFFSETFROM:+0100
TZOFFSETTO:+0200
TZNAME:CEST
DTSTART:20270328T010000
END:DAYLIGHT
BEGIN:STANDARD
TZOFFSETFROM:+0200
TZOFFSETTO:+0100
TZNAME:CET
DTSTART:20271031T010000
END:STANDARD
END:VTIMEZONE
BEGIN:VEVENT
DTSTART;TZID=Europe/Berlin:20260601T150000
DTEND;TZID=Europe/Berlin:20260601T150000
DTSTAMP:20260421T163052
CREATED:20260211T145026Z
LAST-MODIFIED:20260211T145031Z
UID:63612-1780326000-1780326000@www.kloster-ettal.de
SUMMARY:Basilikaführung
DESCRIPTION:Erleben Sie die barocke Pracht der Basilika Ettal und erfahren Sie mehr über ihre Architektur\, das berühmte Gnadenbild und die jahrhundertealte Geschichte der Benediktiner. \n\nDauer: 30-45 Minuten\nKosten: 5\,00 € pro Person (Kinder bis 12 Jahre sind frei\, Jugendlichen zwischen 12-18 Jahren erhalten 50% Ermäßigung)\nEinschränkungen: An Feiertagen sowie bei klösterlichen Veranstaltungen und während Gottesdiensten finden die Führungen nicht statt
URL:https://www.kloster-ettal.de/event/basilikafuehrung-42/
LOCATION:Basilika
CATEGORIES:Führung
ATTACH;FMTTYPE=image/webp:https://www.kloster-ettal.de/wp-content/uploads/2025/03/fuehrung-durch-die-basilika.webp
END:VEVENT
BEGIN:VEVENT
DTSTART;TZID=Europe/Berlin:20260601T160000
DTEND;TZID=Europe/Berlin:20260601T160000
DTSTAMP:20260421T163052
CREATED:20260211T153133Z
LAST-MODIFIED:20260211T153138Z
UID:63710-1780329600-1780329600@www.kloster-ettal.de
SUMMARY:Liqueurmanufaktur-Führung
DESCRIPTION:In unserer Manufaktur entstehen nach überlieferten Rezepten edle Kräuterliköre und Destillate\, deren Herstellung wir Ihnen gerne näher bringen. \n\nDauer 45 Minuten\, inkl. Likörprobe\nKosten: 9\,00 € pro Person\nKinder bis 12 Jahre sind frei (Jugendliche zwischen 12 und 18 Jahre erhalten 50% Ermäßigung
URL:https://www.kloster-ettal.de/event/liqueurmanufaktur-fuehrung-43/
LOCATION:Liqueurmanufaktur\, Kaiser-Ludwig-Platz 1\, Ettal\, Bayern\, 82488\, Germany
CATEGORIES:Führung
ATTACH;FMTTYPE=image/webp:https://www.kloster-ettal.de/wp-content/uploads/2025/03/liqueurmanufaktur-fuehrung.webp
END:VEVENT
BEGIN:VEVENT
DTSTART;TZID=Europe/Berlin:20260602T150000
DTEND;TZID=Europe/Berlin:20260602T150000
DTSTAMP:20260421T163052
CREATED:20260211T151204Z
LAST-MODIFIED:20260211T151208Z
UID:63657-1780412400-1780412400@www.kloster-ettal.de
SUMMARY:Brauereiführung
DESCRIPTION:Wir zeigen Ihnen\, wie das berühmte Ettaler Bier nach alter Handwerkstradition gebraut wird – mit anschließender Verkostung. \n\nDauer: 60 Minuten inkl. Bierprobe\nKosten: 12\,00 € pro Person\nKinder bis 12 Jahre frei (Jugendliche zwischen 12 und 18 Jahre: 50% Ermäßigung)
URL:https://www.kloster-ettal.de/event/brauereifuehrung-40/
LOCATION:Klosterbrauerei\, Kaiser-Ludwig-Platz 1\, Ettal\, Bayern\, 82488\, Germany
CATEGORIES:Führung
ATTACH;FMTTYPE=image/webp:https://www.kloster-ettal.de/wp-content/uploads/2025/03/brauereifuehrung-veranstaltung.webp
END:VEVENT
BEGIN:VEVENT
DTSTART;TZID=Europe/Berlin:20260605T150000
DTEND;TZID=Europe/Berlin:20260605T150000
DTSTAMP:20260421T163052
CREATED:20260211T151837Z
LAST-MODIFIED:20260211T151841Z
UID:63671-1780671600-1780671600@www.kloster-ettal.de
SUMMARY:Brauereiführung
DESCRIPTION:Wir zeigen Ihnen\, wie das berühmte Ettaler Bier nach alter Handwerkstradition gebraut wird – mit anschließender Verkostung. \n\nDauer: 60 Minuten inkl. Bierprobe\nKosten: 12\,00 € pro Person\nKinder bis 12 Jahre frei (Jugendliche zwischen 12 und 18 Jahre: 50% Ermäßigung)
URL:https://www.kloster-ettal.de/event/brauereifuehrung-41/
LOCATION:Klosterbrauerei\, Kaiser-Ludwig-Platz 1\, Ettal\, Bayern\, 82488\, Germany
CATEGORIES:Führung
ATTACH;FMTTYPE=image/webp:https://www.kloster-ettal.de/wp-content/uploads/2025/03/brauereifuehrung-veranstaltung.webp
END:VEVENT
BEGIN:VEVENT
DTSTART;TZID=Europe/Berlin:20260608T150000
DTEND;TZID=Europe/Berlin:20260608T150000
DTSTAMP:20260421T163052
CREATED:20260211T145113Z
LAST-MODIFIED:20260211T145117Z
UID:63610-1780930800-1780930800@www.kloster-ettal.de
SUMMARY:Basilikaführung
DESCRIPTION:Erleben Sie die barocke Pracht der Basilika Ettal und erfahren Sie mehr über ihre Architektur\, das berühmte Gnadenbild und die jahrhundertealte Geschichte der Benediktiner. \n\nDauer: 30-45 Minuten\nKosten: 5\,00 € pro Person (Kinder bis 12 Jahre sind frei\, Jugendlichen zwischen 12-18 Jahren erhalten 50% Ermäßigung)\nEinschränkungen: An Feiertagen sowie bei klösterlichen Veranstaltungen und während Gottesdiensten finden die Führungen nicht statt
URL:https://www.kloster-ettal.de/event/basilikafuehrung-44/
LOCATION:Basilika
CATEGORIES:Führung
ATTACH;FMTTYPE=image/webp:https://www.kloster-ettal.de/wp-content/uploads/2025/03/fuehrung-durch-die-basilika.webp
END:VEVENT
BEGIN:VEVENT
DTSTART;TZID=Europe/Berlin:20260608T160000
DTEND;TZID=Europe/Berlin:20260608T160000
DTSTAMP:20260421T163052
CREATED:20260211T153246Z
LAST-MODIFIED:20260211T153250Z
UID:63716-1780934400-1780934400@www.kloster-ettal.de
SUMMARY:Liqueurmanufaktur-Führung
DESCRIPTION:In unserer Manufaktur entstehen nach überlieferten Rezepten edle Kräuterliköre und Destillate\, deren Herstellung wir Ihnen gerne näher bringen. \n\nDauer 45 Minuten\, inkl. Likörprobe\nKosten: 9\,00 € pro Person\nKinder bis 12 Jahre sind frei (Jugendliche zwischen 12 und 18 Jahre erhalten 50% Ermäßigung
URL:https://www.kloster-ettal.de/event/liqueurmanufaktur-fuehrung-45/
LOCATION:Liqueurmanufaktur\, Kaiser-Ludwig-Platz 1\, Ettal\, Bayern\, 82488\, Germany
CATEGORIES:Führung
ATTACH;FMTTYPE=image/webp:https://www.kloster-ettal.de/wp-content/uploads/2025/03/liqueurmanufaktur-fuehrung.webp
END:VEVENT
BEGIN:VEVENT
DTSTART;TZID=Europe/Berlin:20260609T150000
DTEND;TZID=Europe/Berlin:20260609T150000
DTSTAMP:20260421T163052
CREATED:20260211T151300Z
LAST-MODIFIED:20260211T151305Z
UID:63655-1781017200-1781017200@www.kloster-ettal.de
SUMMARY:Brauereiführung
DESCRIPTION:Wir zeigen Ihnen\, wie das berühmte Ettaler Bier nach alter Handwerkstradition gebraut wird – mit anschließender Verkostung. \n\nDauer: 60 Minuten inkl. Bierprobe\nKosten: 12\,00 € pro Person\nKinder bis 12 Jahre frei (Jugendliche zwischen 12 und 18 Jahre: 50% Ermäßigung)
URL:https://www.kloster-ettal.de/event/brauereifuehrung-42/
LOCATION:Klosterbrauerei\, Kaiser-Ludwig-Platz 1\, Ettal\, Bayern\, 82488\, Germany
CATEGORIES:Führung
ATTACH;FMTTYPE=image/webp:https://www.kloster-ettal.de/wp-content/uploads/2025/03/brauereifuehrung-veranstaltung.webp
END:VEVENT
BEGIN:VEVENT
DTSTART;TZID=Europe/Berlin:20260611T150000
DTEND;TZID=Europe/Berlin:20260611T150000
DTSTAMP:20260421T163052
CREATED:20260211T145135Z
LAST-MODIFIED:20260211T145139Z
UID:63609-1781190000-1781190000@www.kloster-ettal.de
SUMMARY:Basilikaführung
DESCRIPTION:Erleben Sie die barocke Pracht der Basilika Ettal und erfahren Sie mehr über ihre Architektur\, das berühmte Gnadenbild und die jahrhundertealte Geschichte der Benediktiner. \n\nDauer: 30-45 Minuten\nKosten: 5\,00 € pro Person (Kinder bis 12 Jahre sind frei\, Jugendlichen zwischen 12-18 Jahren erhalten 50% Ermäßigung)\nEinschränkungen: An Feiertagen sowie bei klösterlichen Veranstaltungen und während Gottesdiensten finden die Führungen nicht statt
URL:https://www.kloster-ettal.de/event/basilikafuehrung-45/
LOCATION:Basilika
CATEGORIES:Führung
ATTACH;FMTTYPE=image/webp:https://www.kloster-ettal.de/wp-content/uploads/2025/03/fuehrung-durch-die-basilika.webp
END:VEVENT
BEGIN:VEVENT
DTSTART;TZID=Europe/Berlin:20260611T160000
DTEND;TZID=Europe/Berlin:20260611T160000
DTSTAMP:20260421T163052
CREATED:20260211T153309Z
LAST-MODIFIED:20260211T153313Z
UID:63715-1781193600-1781193600@www.kloster-ettal.de
SUMMARY:Liqueurmanufaktur-Führung
DESCRIPTION:In unserer Manufaktur entstehen nach überlieferten Rezepten edle Kräuterliköre und Destillate\, deren Herstellung wir Ihnen gerne näher bringen. \n\nDauer 45 Minuten\, inkl. Likörprobe\nKosten: 9\,00 € pro Person\nKinder bis 12 Jahre sind frei (Jugendliche zwischen 12 und 18 Jahre erhalten 50% Ermäßigung
URL:https://www.kloster-ettal.de/event/liqueurmanufaktur-fuehrung-46/
LOCATION:Liqueurmanufaktur\, Kaiser-Ludwig-Platz 1\, Ettal\, Bayern\, 82488\, Germany
CATEGORIES:Führung
ATTACH;FMTTYPE=image/webp:https://www.kloster-ettal.de/wp-content/uploads/2025/03/liqueurmanufaktur-fuehrung.webp
END:VEVENT
BEGIN:VEVENT
DTSTART;TZID=Europe/Berlin:20260612T150000
DTEND;TZID=Europe/Berlin:20260612T150000
DTSTAMP:20260421T163052
CREATED:20260211T151333Z
LAST-MODIFIED:20260211T151338Z
UID:63654-1781276400-1781276400@www.kloster-ettal.de
SUMMARY:Brauereiführung
DESCRIPTION:Wir zeigen Ihnen\, wie das berühmte Ettaler Bier nach alter Handwerkstradition gebraut wird – mit anschließender Verkostung. \n\nDauer: 60 Minuten inkl. Bierprobe\nKosten: 12\,00 € pro Person\nKinder bis 12 Jahre frei (Jugendliche zwischen 12 und 18 Jahre: 50% Ermäßigung)
URL:https://www.kloster-ettal.de/event/brauereifuehrung-43/
LOCATION:Klosterbrauerei\, Kaiser-Ludwig-Platz 1\, Ettal\, Bayern\, 82488\, Germany
CATEGORIES:Führung
ATTACH;FMTTYPE=image/webp:https://www.kloster-ettal.de/wp-content/uploads/2025/03/brauereifuehrung-veranstaltung.webp
END:VEVENT
BEGIN:VEVENT
DTSTART;TZID=Europe/Berlin:20260615T150000
DTEND;TZID=Europe/Berlin:20260615T150000
DTSTAMP:20260421T163052
CREATED:20260211T145237Z
LAST-MODIFIED:20260211T145242Z
UID:63608-1781535600-1781535600@www.kloster-ettal.de
SUMMARY:Basilikaführung
DESCRIPTION:Erleben Sie die barocke Pracht der Basilika Ettal und erfahren Sie mehr über ihre Architektur\, das berühmte Gnadenbild und die jahrhundertealte Geschichte der Benediktiner. \n\nDauer: 30-45 Minuten\nKosten: 5\,00 € pro Person (Kinder bis 12 Jahre sind frei\, Jugendlichen zwischen 12-18 Jahren erhalten 50% Ermäßigung)\nEinschränkungen: An Feiertagen sowie bei klösterlichen Veranstaltungen und während Gottesdiensten finden die Führungen nicht statt
URL:https://www.kloster-ettal.de/event/basilikafuehrung-46/
LOCATION:Basilika
CATEGORIES:Führung
ATTACH;FMTTYPE=image/webp:https://www.kloster-ettal.de/wp-content/uploads/2025/03/fuehrung-durch-die-basilika.webp
END:VEVENT
BEGIN:VEVENT
DTSTART;TZID=Europe/Berlin:20260615T160000
DTEND;TZID=Europe/Berlin:20260615T160000
DTSTAMP:20260421T163052
CREATED:20260211T153340Z
LAST-MODIFIED:20260211T153344Z
UID:63714-1781539200-1781539200@www.kloster-ettal.de
SUMMARY:Liqueurmanufaktur-Führung
DESCRIPTION:In unserer Manufaktur entstehen nach überlieferten Rezepten edle Kräuterliköre und Destillate\, deren Herstellung wir Ihnen gerne näher bringen. \n\nDauer 45 Minuten\, inkl. Likörprobe\nKosten: 9\,00 € pro Person\nKinder bis 12 Jahre sind frei (Jugendliche zwischen 12 und 18 Jahre erhalten 50% Ermäßigung
URL:https://www.kloster-ettal.de/event/liqueurmanufaktur-fuehrung-47/
LOCATION:Liqueurmanufaktur\, Kaiser-Ludwig-Platz 1\, Ettal\, Bayern\, 82488\, Germany
CATEGORIES:Führung
ATTACH;FMTTYPE=image/webp:https://www.kloster-ettal.de/wp-content/uploads/2025/03/liqueurmanufaktur-fuehrung.webp
END:VEVENT
BEGIN:VEVENT
DTSTART;TZID=Europe/Berlin:20260616T150000
DTEND;TZID=Europe/Berlin:20260616T150000
DTSTAMP:20260421T163052
CREATED:20260211T151359Z
LAST-MODIFIED:20260211T151404Z
UID:63653-1781622000-1781622000@www.kloster-ettal.de
SUMMARY:Brauereiführung
DESCRIPTION:Wir zeigen Ihnen\, wie das berühmte Ettaler Bier nach alter Handwerkstradition gebraut wird – mit anschließender Verkostung. \n\nDauer: 60 Minuten inkl. Bierprobe\nKosten: 12\,00 € pro Person\nKinder bis 12 Jahre frei (Jugendliche zwischen 12 und 18 Jahre: 50% Ermäßigung)
URL:https://www.kloster-ettal.de/event/brauereifuehrung-44/
LOCATION:Klosterbrauerei\, Kaiser-Ludwig-Platz 1\, Ettal\, Bayern\, 82488\, Germany
CATEGORIES:Führung
ATTACH;FMTTYPE=image/webp:https://www.kloster-ettal.de/wp-content/uploads/2025/03/brauereifuehrung-veranstaltung.webp
END:VEVENT
BEGIN:VEVENT
DTSTART;TZID=Europe/Berlin:20260618T150000
DTEND;TZID=Europe/Berlin:20260618T150000
DTSTAMP:20260421T163052
CREATED:20260211T145302Z
LAST-MODIFIED:20260211T145307Z
UID:63607-1781794800-1781794800@www.kloster-ettal.de
SUMMARY:Basilikaführung
DESCRIPTION:Erleben Sie die barocke Pracht der Basilika Ettal und erfahren Sie mehr über ihre Architektur\, das berühmte Gnadenbild und die jahrhundertealte Geschichte der Benediktiner. \n\nDauer: 30-45 Minuten\nKosten: 5\,00 € pro Person (Kinder bis 12 Jahre sind frei\, Jugendlichen zwischen 12-18 Jahren erhalten 50% Ermäßigung)\nEinschränkungen: An Feiertagen sowie bei klösterlichen Veranstaltungen und während Gottesdiensten finden die Führungen nicht statt
URL:https://www.kloster-ettal.de/event/basilikafuehrung-47/
LOCATION:Basilika
CATEGORIES:Führung
ATTACH;FMTTYPE=image/webp:https://www.kloster-ettal.de/wp-content/uploads/2025/03/fuehrung-durch-die-basilika.webp
END:VEVENT
BEGIN:VEVENT
DTSTART;TZID=Europe/Berlin:20260618T160000
DTEND;TZID=Europe/Berlin:20260618T160000
DTSTAMP:20260421T163052
CREATED:20260211T153405Z
LAST-MODIFIED:20260211T153410Z
UID:63713-1781798400-1781798400@www.kloster-ettal.de
SUMMARY:Liqueurmanufaktur-Führung
DESCRIPTION:In unserer Manufaktur entstehen nach überlieferten Rezepten edle Kräuterliköre und Destillate\, deren Herstellung wir Ihnen gerne näher bringen. \n\nDauer 45 Minuten\, inkl. Likörprobe\nKosten: 9\,00 € pro Person\nKinder bis 12 Jahre sind frei (Jugendliche zwischen 12 und 18 Jahre erhalten 50% Ermäßigung
URL:https://www.kloster-ettal.de/event/liqueurmanufaktur-fuehrung-48/
LOCATION:Liqueurmanufaktur\, Kaiser-Ludwig-Platz 1\, Ettal\, Bayern\, 82488\, Germany
CATEGORIES:Führung
ATTACH;FMTTYPE=image/webp:https://www.kloster-ettal.de/wp-content/uploads/2025/03/liqueurmanufaktur-fuehrung.webp
END:VEVENT
BEGIN:VEVENT
DTSTART;TZID=Europe/Berlin:20260619T150000
DTEND;TZID=Europe/Berlin:20260619T150000
DTSTAMP:20260421T163052
CREATED:20260211T151429Z
LAST-MODIFIED:20260211T151433Z
UID:63665-1781881200-1781881200@www.kloster-ettal.de
SUMMARY:Brauereiführung
DESCRIPTION:Wir zeigen Ihnen\, wie das berühmte Ettaler Bier nach alter Handwerkstradition gebraut wird – mit anschließender Verkostung. \n\nDauer: 60 Minuten inkl. Bierprobe\nKosten: 12\,00 € pro Person\nKinder bis 12 Jahre frei (Jugendliche zwischen 12 und 18 Jahre: 50% Ermäßigung)
URL:https://www.kloster-ettal.de/event/brauereifuehrung-45/
LOCATION:Klosterbrauerei\, Kaiser-Ludwig-Platz 1\, Ettal\, Bayern\, 82488\, Germany
CATEGORIES:Führung
ATTACH;FMTTYPE=image/webp:https://www.kloster-ettal.de/wp-content/uploads/2025/03/brauereifuehrung-veranstaltung.webp
END:VEVENT
BEGIN:VEVENT
DTSTART;TZID=Europe/Berlin:20260622T150000
DTEND;TZID=Europe/Berlin:20260622T150000
DTSTAMP:20260421T163052
CREATED:20260212T094127Z
LAST-MODIFIED:20260212T094131Z
UID:63732-1782140400-1782140400@www.kloster-ettal.de
SUMMARY:Basilikaführung
DESCRIPTION:Erleben Sie die barocke Pracht der Basilika Ettal und erfahren Sie mehr über ihre Architektur\, das berühmte Gnadenbild und die jahrhundertealte Geschichte der Benediktiner. \n\nDauer: 30-45 Minuten\nKosten: 5\,00 € pro Person (Kinder bis 12 Jahre sind frei\, Jugendlichen zwischen 12-18 Jahren erhalten 50% Ermäßigung)\nEinschränkungen: An Feiertagen sowie bei klösterlichen Veranstaltungen und während Gottesdiensten finden die Führungen nicht statt
URL:https://www.kloster-ettal.de/event/basilikafuehrung-49/
LOCATION:Basilika
CATEGORIES:Führung
ATTACH;FMTTYPE=image/webp:https://www.kloster-ettal.de/wp-content/uploads/2025/03/fuehrung-durch-die-basilika.webp
END:VEVENT
BEGIN:VEVENT
DTSTART;TZID=Europe/Berlin:20260622T160000
DTEND;TZID=Europe/Berlin:20260622T160000
DTSTAMP:20260421T163052
CREATED:20260212T094941Z
LAST-MODIFIED:20260212T094945Z
UID:63751-1782144000-1782144000@www.kloster-ettal.de
SUMMARY:Liqueurmanufaktur-Führung
DESCRIPTION:In unserer Manufaktur entstehen nach überlieferten Rezepten edle Kräuterliköre und Destillate\, deren Herstellung wir Ihnen gerne näher bringen. \n\nDauer 45 Minuten\, inkl. Likörprobe\nKosten: 9\,00 € pro Person\nKinder bis 12 Jahre sind frei (Jugendliche zwischen 12 und 18 Jahre erhalten 50% Ermäßigung
URL:https://www.kloster-ettal.de/event/liqueurmanufaktur-fuehrung-49/
LOCATION:Liqueurmanufaktur\, Kaiser-Ludwig-Platz 1\, Ettal\, Bayern\, 82488\, Germany
CATEGORIES:Führung
ATTACH;FMTTYPE=image/webp:https://www.kloster-ettal.de/wp-content/uploads/2025/03/liqueurmanufaktur-fuehrung.webp
END:VEVENT
BEGIN:VEVENT
DTSTART;TZID=Europe/Berlin:20260623T150000
DTEND;TZID=Europe/Berlin:20260623T150000
DTSTAMP:20260421T163052
CREATED:20260212T094437Z
LAST-MODIFIED:20260212T094440Z
UID:63744-1782226800-1782226800@www.kloster-ettal.de
SUMMARY:Brauereiführung
DESCRIPTION:Wir zeigen Ihnen\, wie das berühmte Ettaler Bier nach alter Handwerkstradition gebraut wird – mit anschließender Verkostung. \n\nDauer: 60 Minuten inkl. Bierprobe\nKosten: 12\,00 € pro Person\nKinder bis 12 Jahre frei (Jugendliche zwischen 12 und 18 Jahre: 50% Ermäßigung)
URL:https://www.kloster-ettal.de/event/brauereifuehrung-47/
LOCATION:Klosterbrauerei\, Kaiser-Ludwig-Platz 1\, Ettal\, Bayern\, 82488\, Germany
CATEGORIES:Führung
ATTACH;FMTTYPE=image/webp:https://www.kloster-ettal.de/wp-content/uploads/2025/03/brauereifuehrung-veranstaltung.webp
END:VEVENT
BEGIN:VEVENT
DTSTART;TZID=Europe/Berlin:20260625T150000
DTEND;TZID=Europe/Berlin:20260625T150000
DTSTAMP:20260421T163052
CREATED:20260212T094145Z
LAST-MODIFIED:20260212T094148Z
UID:63731-1782399600-1782399600@www.kloster-ettal.de
SUMMARY:Basilikaführung
DESCRIPTION:Erleben Sie die barocke Pracht der Basilika Ettal und erfahren Sie mehr über ihre Architektur\, das berühmte Gnadenbild und die jahrhundertealte Geschichte der Benediktiner. \n\nDauer: 30-45 Minuten\nKosten: 5\,00 € pro Person (Kinder bis 12 Jahre sind frei\, Jugendlichen zwischen 12-18 Jahren erhalten 50% Ermäßigung)\nEinschränkungen: An Feiertagen sowie bei klösterlichen Veranstaltungen und während Gottesdiensten finden die Führungen nicht statt
URL:https://www.kloster-ettal.de/event/basilikafuehrung-50/
LOCATION:Basilika
CATEGORIES:Führung
ATTACH;FMTTYPE=image/webp:https://www.kloster-ettal.de/wp-content/uploads/2025/03/fuehrung-durch-die-basilika.webp
END:VEVENT
BEGIN:VEVENT
DTSTART;TZID=Europe/Berlin:20260625T160000
DTEND;TZID=Europe/Berlin:20260625T160000
DTSTAMP:20260421T163052
CREATED:20260212T095021Z
LAST-MODIFIED:20260212T095025Z
UID:63753-1782403200-1782403200@www.kloster-ettal.de
SUMMARY:Liqueurmanufaktur-Führung
DESCRIPTION:In unserer Manufaktur entstehen nach überlieferten Rezepten edle Kräuterliköre und Destillate\, deren Herstellung wir Ihnen gerne näher bringen. \n\nDauer 45 Minuten\, inkl. Likörprobe\nKosten: 9\,00 € pro Person\nKinder bis 12 Jahre sind frei (Jugendliche zwischen 12 und 18 Jahre erhalten 50% Ermäßigung
URL:https://www.kloster-ettal.de/event/liqueurmanufaktur-fuehrung-50/
LOCATION:Liqueurmanufaktur\, Kaiser-Ludwig-Platz 1\, Ettal\, Bayern\, 82488\, Germany
CATEGORIES:Führung
ATTACH;FMTTYPE=image/webp:https://www.kloster-ettal.de/wp-content/uploads/2025/03/liqueurmanufaktur-fuehrung.webp
END:VEVENT
BEGIN:VEVENT
DTSTART;TZID=Europe/Berlin:20260626T150000
DTEND;TZID=Europe/Berlin:20260626T150000
DTSTAMP:20260421T163052
CREATED:20260212T094454Z
LAST-MODIFIED:20260212T094458Z
UID:63743-1782486000-1782486000@www.kloster-ettal.de
SUMMARY:Brauereiführung
DESCRIPTION:Wir zeigen Ihnen\, wie das berühmte Ettaler Bier nach alter Handwerkstradition gebraut wird – mit anschließender Verkostung. \n\nDauer: 60 Minuten inkl. Bierprobe\nKosten: 12\,00 € pro Person\nKinder bis 12 Jahre frei (Jugendliche zwischen 12 und 18 Jahre: 50% Ermäßigung)
URL:https://www.kloster-ettal.de/event/brauereifuehrung-48/
LOCATION:Klosterbrauerei\, Kaiser-Ludwig-Platz 1\, Ettal\, Bayern\, 82488\, Germany
CATEGORIES:Führung
ATTACH;FMTTYPE=image/webp:https://www.kloster-ettal.de/wp-content/uploads/2025/03/brauereifuehrung-veranstaltung.webp
END:VEVENT
BEGIN:VEVENT
DTSTART;TZID=Europe/Berlin:20260629T150000
DTEND;TZID=Europe/Berlin:20260629T150000
DTSTAMP:20260421T163052
CREATED:20260212T094204Z
LAST-MODIFIED:20260212T094207Z
UID:63730-1782745200-1782745200@www.kloster-ettal.de
SUMMARY:Basilikaführung
DESCRIPTION:Erleben Sie die barocke Pracht der Basilika Ettal und erfahren Sie mehr über ihre Architektur\, das berühmte Gnadenbild und die jahrhundertealte Geschichte der Benediktiner. \n\nDauer: 30-45 Minuten\nKosten: 5\,00 € pro Person (Kinder bis 12 Jahre sind frei\, Jugendlichen zwischen 12-18 Jahren erhalten 50% Ermäßigung)\nEinschränkungen: An Feiertagen sowie bei klösterlichen Veranstaltungen und während Gottesdiensten finden die Führungen nicht statt
URL:https://www.kloster-ettal.de/event/basilikafuehrung-51/
LOCATION:Basilika
CATEGORIES:Führung
ATTACH;FMTTYPE=image/webp:https://www.kloster-ettal.de/wp-content/uploads/2025/03/fuehrung-durch-die-basilika.webp
END:VEVENT
BEGIN:VEVENT
DTSTART;TZID=Europe/Berlin:20260629T160000
DTEND;TZID=Europe/Berlin:20260629T160000
DTSTAMP:20260421T163052
CREATED:20260212T095349Z
LAST-MODIFIED:20260212T095352Z
UID:63761-1782748800-1782748800@www.kloster-ettal.de
SUMMARY:Liqueurmanufaktur-Führung
DESCRIPTION:In unserer Manufaktur entstehen nach überlieferten Rezepten edle Kräuterliköre und Destillate\, deren Herstellung wir Ihnen gerne näher bringen. \n\nDauer 45 Minuten\, inkl. Likörprobe\nKosten: 9\,00 € pro Person\nKinder bis 12 Jahre sind frei (Jugendliche zwischen 12 und 18 Jahre erhalten 50% Ermäßigung
URL:https://www.kloster-ettal.de/event/liqueurmanufaktur-fuehrung-54/
LOCATION:Liqueurmanufaktur\, Kaiser-Ludwig-Platz 1\, Ettal\, Bayern\, 82488\, Germany
CATEGORIES:Führung
ATTACH;FMTTYPE=image/webp:https://www.kloster-ettal.de/wp-content/uploads/2025/03/liqueurmanufaktur-fuehrung.webp
END:VEVENT
BEGIN:VEVENT
DTSTART;TZID=Europe/Berlin:20260630T150000
DTEND;TZID=Europe/Berlin:20260630T150000
DTSTAMP:20260421T163052
CREATED:20260212T094745Z
LAST-MODIFIED:20260212T094748Z
UID:63742-1782831600-1782831600@www.kloster-ettal.de
SUMMARY:Brauereiführung
DESCRIPTION:Wir zeigen Ihnen\, wie das berühmte Ettaler Bier nach alter Handwerkstradition gebraut wird – mit anschließender Verkostung. \n\nDauer: 60 Minuten inkl. Bierprobe\nKosten: 12\,00 € pro Person\nKinder bis 12 Jahre frei (Jugendliche zwischen 12 und 18 Jahre: 50% Ermäßigung)
URL:https://www.kloster-ettal.de/event/brauereifuehrung-49/
LOCATION:Klosterbrauerei\, Kaiser-Ludwig-Platz 1\, Ettal\, Bayern\, 82488\, Germany
CATEGORIES:Führung
ATTACH;FMTTYPE=image/webp:https://www.kloster-ettal.de/wp-content/uploads/2025/03/brauereifuehrung-veranstaltung.webp
END:VEVENT
END:VCALENDAR