BEGIN:VCALENDAR
VERSION:2.0
PRODID:-//Kloster Ettal - ECPv6.15.20//NONSGML v1.0//EN
CALSCALE:GREGORIAN
METHOD:PUBLISH
X-ORIGINAL-URL:https://www.kloster-ettal.de
X-WR-CALDESC:Veranstaltungen für Kloster Ettal
REFRESH-INTERVAL;VALUE=DURATION:PT1H
X-Robots-Tag:noindex
X-PUBLISHED-TTL:PT1H
BEGIN:VTIMEZONE
TZID:Europe/Berlin
BEGIN:DAYLIGHT
TZOFFSETFROM:+0100
TZOFFSETTO:+0200
TZNAME:CEST
DTSTART:20250330T010000
END:DAYLIGHT
BEGIN:STANDARD
TZOFFSETFROM:+0200
TZOFFSETTO:+0100
TZNAME:CET
DTSTART:20251026T010000
END:STANDARD
BEGIN:DAYLIGHT
TZOFFSETFROM:+0100
TZOFFSETTO:+0200
TZNAME:CEST
DTSTART:20260329T010000
END:DAYLIGHT
BEGIN:STANDARD
TZOFFSETFROM:+0200
TZOFFSETTO:+0100
TZNAME:CET
DTSTART:20261025T010000
END:STANDARD
BEGIN:DAYLIGHT
TZOFFSETFROM:+0100
TZOFFSETTO:+0200
TZNAME:CEST
DTSTART:20270328T010000
END:DAYLIGHT
BEGIN:STANDARD
TZOFFSETFROM:+0200
TZOFFSETTO:+0100
TZNAME:CET
DTSTART:20271031T010000
END:STANDARD
END:VTIMEZONE
BEGIN:VEVENT
DTSTART;TZID=Europe/Berlin:20260301T073000
DTEND;TZID=Europe/Berlin:20260301T073000
DTSTAMP:20260421T145012
CREATED:20260225T141429Z
LAST-MODIFIED:20260225T141456Z
UID:63935-1772350200-1772350200@www.kloster-ettal.de
SUMMARY:Eucharistiefeier
DESCRIPTION:für die armen Seelen
URL:https://www.kloster-ettal.de/event/eucharistiefeier-51/
LOCATION:Gedächtniskapelle
CATEGORIES:Gottesdienst
ATTACH;FMTTYPE=image/webp:https://www.kloster-ettal.de/wp-content/uploads/2025/12/Gedaechtniskapelle.webp
END:VEVENT
BEGIN:VEVENT
DTSTART;TZID=Europe/Berlin:20260301T103000
DTEND;TZID=Europe/Berlin:20260301T103000
DTSTAMP:20260421T145012
CREATED:20260225T141523Z
LAST-MODIFIED:20260225T141531Z
UID:63939-1772361000-1772361000@www.kloster-ettal.de
SUMMARY:Eucharistiefeier
DESCRIPTION:
URL:https://www.kloster-ettal.de/event/eucharistiefeier-52/
LOCATION:Gedächtniskapelle
CATEGORIES:Gottesdienst
ATTACH;FMTTYPE=image/webp:https://www.kloster-ettal.de/wp-content/uploads/2025/12/Gedaechtniskapelle.webp
END:VEVENT
BEGIN:VEVENT
DTSTART;TZID=Europe/Berlin:20260301T180000
DTEND;TZID=Europe/Berlin:20260301T180000
DTSTAMP:20260421T145012
CREATED:20260225T141351Z
LAST-MODIFIED:20260225T141354Z
UID:63934-1772388000-1772388000@www.kloster-ettal.de
SUMMARY:Vesper
DESCRIPTION:
URL:https://www.kloster-ettal.de/event/vesper-39/
LOCATION:Gedächtniskapelle
CATEGORIES:Gottesdienst
ATTACH;FMTTYPE=image/webp:https://www.kloster-ettal.de/wp-content/uploads/2025/12/Gedaechtniskapelle.webp
END:VEVENT
BEGIN:VEVENT
DTSTART;TZID=Europe/Berlin:20260305T150000
DTEND;TZID=Europe/Berlin:20260305T150000
DTSTAMP:20260421T145012
CREATED:20260128T125338Z
LAST-MODIFIED:20260128T125341Z
UID:63406-1772722800-1772722800@www.kloster-ettal.de
SUMMARY:Basilikaführung
DESCRIPTION:Erleben Sie die barocke Pracht der Basilika Ettal und erfahren Sie mehr über ihre Architektur\, das berühmte Gnadenbild und die jahrhundertealte Geschichte der Benediktiner. \n\nDauer: 30-45 Minuten\nKosten: 5\,00 € pro Person (Kinder bis 12 Jahre sind frei\, Jugendlichen zwischen 12-18 Jahren erhalten 50% Ermäßigung)\nEinschränkungen: An Feiertagen sowie bei klösterlichen Veranstaltungen und während Gottesdiensten finden die Führungen nicht statt
URL:https://www.kloster-ettal.de/event/basilikafuehrung-18/
LOCATION:Basilika
CATEGORIES:Führung
ATTACH;FMTTYPE=image/webp:https://www.kloster-ettal.de/wp-content/uploads/2025/03/fuehrung-durch-die-basilika.webp
END:VEVENT
BEGIN:VEVENT
DTSTART;TZID=Europe/Berlin:20260305T160000
DTEND;TZID=Europe/Berlin:20260305T160000
DTSTAMP:20260421T145012
CREATED:20260128T125652Z
LAST-MODIFIED:20260128T125655Z
UID:63421-1772726400-1772726400@www.kloster-ettal.de
SUMMARY:Liqueurmanufaktur-Führung
DESCRIPTION:In unserer Manufaktur entstehen nach überlieferten Rezepten edle Kräuterliköre und Destillate\, deren Herstellung wir Ihnen gerne näher bringen. \n\nDauer 45 Minuten\, inkl. Likörprobe\nKosten: 9\,00 € pro Person\nKinder bis 12 Jahre sind frei (Jugendliche zwischen 12 und 18 Jahre erhalten 50% Ermäßigung
URL:https://www.kloster-ettal.de/event/liqueurmanufaktur-fuehrung-18/
LOCATION:Liqueurmanufaktur\, Kaiser-Ludwig-Platz 1\, Ettal\, Bayern\, 82488\, Germany
CATEGORIES:Führung
ATTACH;FMTTYPE=image/webp:https://www.kloster-ettal.de/wp-content/uploads/2025/03/liqueurmanufaktur-fuehrung.webp
END:VEVENT
BEGIN:VEVENT
DTSTART;TZID=Europe/Berlin:20260306T150000
DTEND;TZID=Europe/Berlin:20260306T150000
DTSTAMP:20260421T145012
CREATED:20260128T130144Z
LAST-MODIFIED:20260128T130147Z
UID:63438-1772809200-1772809200@www.kloster-ettal.de
SUMMARY:Brauereiführung
DESCRIPTION:Wir zeigen Ihnen\, wie das berühmte Ettaler Bier nach alter Handwerkstradition gebraut wird – mit anschließender Verkostung. \n\nDauer: 60 Minuten inkl. Bierprobe\nKosten: 12\,00 € pro Person\nKinder bis 12 Jahre frei (Jugendliche zwischen 12 und 18 Jahre: 50% Ermäßigung)
URL:https://www.kloster-ettal.de/event/brauereifuehrung-16/
LOCATION:Klosterbrauerei\, Kaiser-Ludwig-Platz 1\, Ettal\, Bayern\, 82488\, Germany
CATEGORIES:Führung
ATTACH;FMTTYPE=image/webp:https://www.kloster-ettal.de/wp-content/uploads/2025/03/brauereifuehrung-veranstaltung.webp
END:VEVENT
BEGIN:VEVENT
DTSTART;TZID=Europe/Berlin:20260306T190000
DTEND;TZID=Europe/Berlin:20260306T190000
DTSTAMP:20260421T145012
CREATED:20260211T134828Z
LAST-MODIFIED:20260211T134905Z
UID:63568-1772823600-1772823600@www.kloster-ettal.de
SUMMARY:29. GEMEINSAME BIGBAND KONZERTE
DESCRIPTION:Die Veranstaltung findet in der Aula des Benediktinergymnasiums statt.
URL:https://www.kloster-ettal.de/event/29-gemeinsame-bigband-konzerte/
LOCATION:Gymnasium\, Gymnasium
CATEGORIES:Konzert
ATTACH;FMTTYPE=image/jpeg:https://www.kloster-ettal.de/wp-content/uploads/2026/02/Bigband-Konzerte.jpg
END:VEVENT
BEGIN:VEVENT
DTSTART;TZID=Europe/Berlin:20260312T150000
DTEND;TZID=Europe/Berlin:20260312T150000
DTSTAMP:20260421T145012
CREATED:20260128T125354Z
LAST-MODIFIED:20260128T125357Z
UID:63405-1773327600-1773327600@www.kloster-ettal.de
SUMMARY:Basilikaführung
DESCRIPTION:Erleben Sie die barocke Pracht der Basilika Ettal und erfahren Sie mehr über ihre Architektur\, das berühmte Gnadenbild und die jahrhundertealte Geschichte der Benediktiner. \n\nDauer: 30-45 Minuten\nKosten: 5\,00 € pro Person (Kinder bis 12 Jahre sind frei\, Jugendlichen zwischen 12-18 Jahren erhalten 50% Ermäßigung)\nEinschränkungen: An Feiertagen sowie bei klösterlichen Veranstaltungen und während Gottesdiensten finden die Führungen nicht statt
URL:https://www.kloster-ettal.de/event/basilikafuehrung-19/
LOCATION:Basilika
CATEGORIES:Führung
ATTACH;FMTTYPE=image/webp:https://www.kloster-ettal.de/wp-content/uploads/2025/03/fuehrung-durch-die-basilika.webp
END:VEVENT
BEGIN:VEVENT
DTSTART;TZID=Europe/Berlin:20260312T160000
DTEND;TZID=Europe/Berlin:20260312T160000
DTSTAMP:20260421T145012
CREATED:20260128T125707Z
LAST-MODIFIED:20260128T125710Z
UID:63420-1773331200-1773331200@www.kloster-ettal.de
SUMMARY:Liqueurmanufaktur-Führung
DESCRIPTION:In unserer Manufaktur entstehen nach überlieferten Rezepten edle Kräuterliköre und Destillate\, deren Herstellung wir Ihnen gerne näher bringen. \n\nDauer 45 Minuten\, inkl. Likörprobe\nKosten: 9\,00 € pro Person\nKinder bis 12 Jahre sind frei (Jugendliche zwischen 12 und 18 Jahre erhalten 50% Ermäßigung
URL:https://www.kloster-ettal.de/event/liqueurmanufaktur-fuehrung-19/
LOCATION:Liqueurmanufaktur\, Kaiser-Ludwig-Platz 1\, Ettal\, Bayern\, 82488\, Germany
CATEGORIES:Führung
ATTACH;FMTTYPE=image/webp:https://www.kloster-ettal.de/wp-content/uploads/2025/03/liqueurmanufaktur-fuehrung.webp
END:VEVENT
BEGIN:VEVENT
DTSTART;TZID=Europe/Berlin:20260312T180000
DTEND;TZID=Europe/Berlin:20260312T180000
DTSTAMP:20260421T145012
CREATED:20260312T104729Z
LAST-MODIFIED:20260312T104729Z
UID:64025-1773338400-1773338400@www.kloster-ettal.de
SUMMARY:Vesper
DESCRIPTION:
URL:https://www.kloster-ettal.de/event/vesper-48/
LOCATION:Gedächtniskapelle
CATEGORIES:Gottesdienst
END:VEVENT
BEGIN:VEVENT
DTSTART;TZID=Europe/Berlin:20260312T193000
DTEND;TZID=Europe/Berlin:20260312T193000
DTSTAMP:20260421T145012
CREATED:20260312T104827Z
LAST-MODIFIED:20260312T105816Z
UID:64024-1773343800-1773343800@www.kloster-ettal.de
SUMMARY:Eucharistiefeier
DESCRIPTION:
URL:https://www.kloster-ettal.de/event/eucharistiefeier-61/
LOCATION:Privat: Kloster Ettal\, Kaiser-Ludwig-Platz 1\, Ettal\, Bayern\, 82488\, Germany
CATEGORIES:Gottesdienst
END:VEVENT
BEGIN:VEVENT
DTSTART;TZID=Europe/Berlin:20260313T060000
DTEND;TZID=Europe/Berlin:20260313T060000
DTSTAMP:20260421T145012
CREATED:20260312T104912Z
LAST-MODIFIED:20260312T105707Z
UID:64023-1773381600-1773381600@www.kloster-ettal.de
SUMMARY:Eucharistiefeier
DESCRIPTION:
URL:https://www.kloster-ettal.de/event/eucharistiefeier-62/
LOCATION:Privat: Kloster Ettal\, Kaiser-Ludwig-Platz 1\, Ettal\, Bayern\, 82488\, Germany
CATEGORIES:Gottesdienst
END:VEVENT
BEGIN:VEVENT
DTSTART;TZID=Europe/Berlin:20260313T150000
DTEND;TZID=Europe/Berlin:20260313T150000
DTSTAMP:20260421T145012
CREATED:20260128T130204Z
LAST-MODIFIED:20260128T130207Z
UID:63437-1773414000-1773414000@www.kloster-ettal.de
SUMMARY:Brauereiführung
DESCRIPTION:Wir zeigen Ihnen\, wie das berühmte Ettaler Bier nach alter Handwerkstradition gebraut wird – mit anschließender Verkostung. \n\nDauer: 60 Minuten inkl. Bierprobe\nKosten: 12\,00 € pro Person\nKinder bis 12 Jahre frei (Jugendliche zwischen 12 und 18 Jahre: 50% Ermäßigung)
URL:https://www.kloster-ettal.de/event/brauereifuehrung-17/
LOCATION:Klosterbrauerei\, Kaiser-Ludwig-Platz 1\, Ettal\, Bayern\, 82488\, Germany
CATEGORIES:Führung
ATTACH;FMTTYPE=image/webp:https://www.kloster-ettal.de/wp-content/uploads/2025/03/brauereifuehrung-veranstaltung.webp
END:VEVENT
BEGIN:VEVENT
DTSTART;TZID=Europe/Berlin:20260313T180000
DTEND;TZID=Europe/Berlin:20260313T180000
DTSTAMP:20260421T145012
CREATED:20260312T104955Z
LAST-MODIFIED:20260312T105000Z
UID:64022-1773424800-1773424800@www.kloster-ettal.de
SUMMARY:Vesper
DESCRIPTION:
URL:https://www.kloster-ettal.de/event/vesper-49/
LOCATION:Privat: Kloster Ettal\, Kaiser-Ludwig-Platz 1\, Ettal\, Bayern\, 82488\, Germany
CATEGORIES:Gottesdienst
END:VEVENT
BEGIN:VEVENT
DTSTART;TZID=Europe/Berlin:20260314T064500
DTEND;TZID=Europe/Berlin:20260314T064500
DTSTAMP:20260421T145012
CREATED:20260312T110208Z
LAST-MODIFIED:20260312T110214Z
UID:64030-1773470700-1773470700@www.kloster-ettal.de
SUMMARY:Eucharistiefeier
DESCRIPTION:
URL:https://www.kloster-ettal.de/event/eucharistiefeier-63/
LOCATION:Privat: Kloster Ettal\, Kaiser-Ludwig-Platz 1\, Ettal\, Bayern\, 82488\, Germany
CATEGORIES:Gottesdienst
END:VEVENT
BEGIN:VEVENT
DTSTART;TZID=Europe/Berlin:20260314T170000
DTEND;TZID=Europe/Berlin:20260314T170000
DTSTAMP:20260421T145012
CREATED:20260312T110333Z
LAST-MODIFIED:20260312T110409Z
UID:64032-1773507600-1773507600@www.kloster-ettal.de
SUMMARY:Bußgottesdienst
DESCRIPTION:
URL:https://www.kloster-ettal.de/event/bussgottesdienst/
LOCATION:Privat: Kloster Ettal\, Kaiser-Ludwig-Platz 1\, Ettal\, Bayern\, 82488\, Germany
CATEGORIES:Gottesdienst
END:VEVENT
BEGIN:VEVENT
DTSTART;TZID=Europe/Berlin:20260314T180000
DTEND;TZID=Europe/Berlin:20260314T180000
DTSTAMP:20260421T145012
CREATED:20260312T110500Z
LAST-MODIFIED:20260312T110538Z
UID:64034-1773511200-1773511200@www.kloster-ettal.de
SUMMARY:Vesper
DESCRIPTION:
URL:https://www.kloster-ettal.de/event/vesper-50/
LOCATION:Privat: Kloster Ettal\, Kaiser-Ludwig-Platz 1\, Ettal\, Bayern\, 82488\, Germany
CATEGORIES:Gottesdienst
END:VEVENT
BEGIN:VEVENT
DTSTART;TZID=Europe/Berlin:20260315T073000
DTEND;TZID=Europe/Berlin:20260315T073000
DTSTAMP:20260421T145012
CREATED:20260312T110812Z
LAST-MODIFIED:20260312T110817Z
UID:64037-1773559800-1773559800@www.kloster-ettal.de
SUMMARY:Eucharistiefeier
DESCRIPTION:für die armen Seelen
URL:https://www.kloster-ettal.de/event/eucharistiefeier-64/
LOCATION:Privat: Kloster Ettal\, Kaiser-Ludwig-Platz 1\, Ettal\, Bayern\, 82488\, Germany
CATEGORIES:Gottesdienst
END:VEVENT
BEGIN:VEVENT
DTSTART;TZID=Europe/Berlin:20260315T103000
DTEND;TZID=Europe/Berlin:20260315T103000
DTSTAMP:20260421T145012
CREATED:20260312T110903Z
LAST-MODIFIED:20260312T111344Z
UID:64036-1773570600-1773570600@www.kloster-ettal.de
SUMMARY:Eucharistiefeier
DESCRIPTION:
URL:https://www.kloster-ettal.de/event/eucharistiefeier-65/
LOCATION:Privat: Kloster Ettal\, Kaiser-Ludwig-Platz 1\, Ettal\, Bayern\, 82488\, Germany
CATEGORIES:Gottesdienst
END:VEVENT
BEGIN:VEVENT
DTSTART;TZID=Europe/Berlin:20260315T180000
DTEND;TZID=Europe/Berlin:20260315T180000
DTSTAMP:20260421T145012
CREATED:20260312T110932Z
LAST-MODIFIED:20260312T110957Z
UID:64038-1773597600-1773597600@www.kloster-ettal.de
SUMMARY:Vesper
DESCRIPTION:
URL:https://www.kloster-ettal.de/event/vesper-51/
LOCATION:Privat: Kloster Ettal\, Kaiser-Ludwig-Platz 1\, Ettal\, Bayern\, 82488\, Germany
CATEGORIES:Gottesdienst
END:VEVENT
BEGIN:VEVENT
DTSTART;TZID=Europe/Berlin:20260318T180000
DTEND;TZID=Europe/Berlin:20260318T190000
DTSTAMP:20260421T145012
CREATED:20260318T102402Z
LAST-MODIFIED:20260318T103516Z
UID:64051-1773856800-1773860400@www.kloster-ettal.de
SUMMARY:Hochfest des heiligen Joseph
DESCRIPTION:Am 18. und 19. März ist das Fest des heiligen Joseph\, der als Bräutigam der Gottesmutter Maria die Kindheit und Jugend Jesu begleitet hat. \nHochfest des heiligen Joseph\nMittwoch\, 18. März 2026 \n18:00 h Erste Vesper
URL:https://www.kloster-ettal.de/event/hochfest-des-heiligen-joseph/
LOCATION:Gedächtniskapelle
CATEGORIES:Gottesdienst
END:VEVENT
BEGIN:VEVENT
DTSTART;TZID=Europe/Berlin:20260319T150000
DTEND;TZID=Europe/Berlin:20260319T150000
DTSTAMP:20260421T145012
CREATED:20260128T125410Z
LAST-MODIFIED:20260128T125414Z
UID:63404-1773932400-1773932400@www.kloster-ettal.de
SUMMARY:Basilikaführung
DESCRIPTION:Erleben Sie die barocke Pracht der Basilika Ettal und erfahren Sie mehr über ihre Architektur\, das berühmte Gnadenbild und die jahrhundertealte Geschichte der Benediktiner. \n\nDauer: 30-45 Minuten\nKosten: 5\,00 € pro Person (Kinder bis 12 Jahre sind frei\, Jugendlichen zwischen 12-18 Jahren erhalten 50% Ermäßigung)\nEinschränkungen: An Feiertagen sowie bei klösterlichen Veranstaltungen und während Gottesdiensten finden die Führungen nicht statt
URL:https://www.kloster-ettal.de/event/basilikafuehrung-21/
LOCATION:Basilika
CATEGORIES:Führung
ATTACH;FMTTYPE=image/webp:https://www.kloster-ettal.de/wp-content/uploads/2025/03/fuehrung-durch-die-basilika.webp
END:VEVENT
BEGIN:VEVENT
DTSTART;TZID=Europe/Berlin:20260319T160000
DTEND;TZID=Europe/Berlin:20260319T160000
DTSTAMP:20260421T145012
CREATED:20260128T125725Z
LAST-MODIFIED:20260128T125728Z
UID:63419-1773936000-1773936000@www.kloster-ettal.de
SUMMARY:Liqueurmanufaktur-Führung
DESCRIPTION:In unserer Manufaktur entstehen nach überlieferten Rezepten edle Kräuterliköre und Destillate\, deren Herstellung wir Ihnen gerne näher bringen. \n\nDauer 45 Minuten\, inkl. Likörprobe\nKosten: 9\,00 € pro Person\nKinder bis 12 Jahre sind frei (Jugendliche zwischen 12 und 18 Jahre erhalten 50% Ermäßigung
URL:https://www.kloster-ettal.de/event/liqueurmanufaktur-fuehrung-21/
LOCATION:Liqueurmanufaktur\, Kaiser-Ludwig-Platz 1\, Ettal\, Bayern\, 82488\, Germany
CATEGORIES:Führung
ATTACH;FMTTYPE=image/webp:https://www.kloster-ettal.de/wp-content/uploads/2025/03/liqueurmanufaktur-fuehrung.webp
END:VEVENT
BEGIN:VEVENT
DTSTART;TZID=Europe/Berlin:20260319T180000
DTEND;TZID=Europe/Berlin:20260319T190000
DTSTAMP:20260421T145012
CREATED:20260318T102801Z
LAST-MODIFIED:20260318T103538Z
UID:64055-1773943200-1773946800@www.kloster-ettal.de
SUMMARY:Hochfest des heiligen Joseph
DESCRIPTION:Am 18. und 19. März ist das Fest des heiligen Joseph\, der als Bräutigam der Gottesmutter Maria die Kindheit und Jugend Jesu begleitet hat. \nHochfest des heiligen Joseph\nDonnerstag\, 19. März 2026 \n18:00 h Zweite Vesper \n19:30 h Eucharistiefeier
URL:https://www.kloster-ettal.de/event/hochfest-des-heiligen-joseph-2/
LOCATION:Gedächtniskapelle
CATEGORIES:Gottesdienst
END:VEVENT
BEGIN:VEVENT
DTSTART;TZID=Europe/Berlin:20260320T150000
DTEND;TZID=Europe/Berlin:20260320T150000
DTSTAMP:20260421T145012
CREATED:20260128T130220Z
LAST-MODIFIED:20260128T130223Z
UID:63436-1774018800-1774018800@www.kloster-ettal.de
SUMMARY:Brauereiführung
DESCRIPTION:Wir zeigen Ihnen\, wie das berühmte Ettaler Bier nach alter Handwerkstradition gebraut wird – mit anschließender Verkostung. \n\nDauer: 60 Minuten inkl. Bierprobe\nKosten: 12\,00 € pro Person\nKinder bis 12 Jahre frei (Jugendliche zwischen 12 und 18 Jahre: 50% Ermäßigung)
URL:https://www.kloster-ettal.de/event/brauereifuehrung-19/
LOCATION:Klosterbrauerei\, Kaiser-Ludwig-Platz 1\, Ettal\, Bayern\, 82488\, Germany
CATEGORIES:Führung
ATTACH;FMTTYPE=image/webp:https://www.kloster-ettal.de/wp-content/uploads/2025/03/brauereifuehrung-veranstaltung.webp
END:VEVENT
BEGIN:VEVENT
DTSTART;TZID=Europe/Berlin:20260320T180000
DTEND;TZID=Europe/Berlin:20260320T190000
DTSTAMP:20260421T145012
CREATED:20260318T103059Z
LAST-MODIFIED:20260318T103412Z
UID:64057-1774029600-1774033200@www.kloster-ettal.de
SUMMARY:Hochfest des heiligen Benedikt
DESCRIPTION:Am 20. und 21. März erinnern wir Benediktiner uns dankbar an den heiligen Benedikt. Er ist der Verfasser unserer Klosterregel\, die auch nach fast 1500 Jahren immer noch die Richtschnur für unser gemeinsames Leben in der Verbindung von Gebet und Arbeit darstellt. Der 21. März gilt als der Todestag Benedikts wohl im Jahr 547. Zu den Gottesdiensten an den beiden Festtagen laden wir herzlich ein. \nHochfest des heiligen Benedikt\nFreitag\, 20. März 2026 \n18:00 h Erste Vesper
URL:https://www.kloster-ettal.de/event/hochfest-des-heiligen-benedikt/
LOCATION:Gedächtniskapelle
CATEGORIES:Gottesdienst
END:VEVENT
BEGIN:VEVENT
DTSTART;TZID=Europe/Berlin:20260321T103000
DTEND;TZID=Europe/Berlin:20260321T113000
DTSTAMP:20260421T145012
CREATED:20260318T103327Z
LAST-MODIFIED:20260318T103327Z
UID:64059-1774089000-1774092600@www.kloster-ettal.de
SUMMARY:Hochfest des heiligen Benedikt
DESCRIPTION:Am 20. und 21. März erinnern wir Benediktiner uns dankbar an den heiligen Benedikt. Er ist der Verfasser unserer Klosterregel\, die auch nach fast 1500 Jahren immer noch die Richtschnur für unser gemeinsames Leben in der Verbindung von Gebet und Arbeit darstellt. Der 21. März gilt als der Todestag Benedikts wohl im Jahr 547. Zu den Gottesdiensten an den beiden Festtagen laden wir herzlich ein. \nHochfest des heiligen Benedikt\nSamstag\, 21. März 2026 \n10:30 h Pontifikalamt \n18:00 h Erste Vesper zum fünften Fastensonntag
URL:https://www.kloster-ettal.de/event/hochfest-des-heiligen-benedikt-2/
LOCATION:Gedächtniskapelle
CATEGORIES:Gottesdienst
END:VEVENT
BEGIN:VEVENT
DTSTART;TZID=Europe/Berlin:20260321T180000
DTEND;TZID=Europe/Berlin:20260321T190000
DTSTAMP:20260421T145012
CREATED:20260318T103648Z
LAST-MODIFIED:20260318T103648Z
UID:64062-1774116000-1774119600@www.kloster-ettal.de
SUMMARY:Hochfest des heiligen Benedikt
DESCRIPTION:Am 20. und 21. März erinnern wir Benediktiner uns dankbar an den heiligen Benedikt. Er ist der Verfasser unserer Klosterregel\, die auch nach fast 1500 Jahren immer noch die Richtschnur für unser gemeinsames Leben in der Verbindung von Gebet und Arbeit darstellt. Der 21. März gilt als der Todestag Benedikts wohl im Jahr 547. Zu den Gottesdiensten an den beiden Festtagen laden wir herzlich ein. \nHochfest des heiligen Benedikt\nSamstag\, 21. März 2026 \n10:30 h Pontifikalamt \n18:00 h Erste Vesper zum fünften Fastensonntag
URL:https://www.kloster-ettal.de/event/hochfest-des-heiligen-benedikt-3/
LOCATION:Gedächtniskapelle
CATEGORIES:Gottesdienst
END:VEVENT
BEGIN:VEVENT
DTSTART;TZID=Europe/Berlin:20260323T060000
DTEND;TZID=Europe/Berlin:20260323T060000
DTSTAMP:20260421T145012
CREATED:20260323T083940Z
LAST-MODIFIED:20260323T083945Z
UID:64069-1774245600-1774245600@www.kloster-ettal.de
SUMMARY:Eucharistiefeier
DESCRIPTION:f. + Engelbert Plassmann
URL:https://www.kloster-ettal.de/event/eucharistiefeier-66/
LOCATION:Kloster Ettal\, Kloster Ettal
CATEGORIES:Gottesdienst
END:VEVENT
BEGIN:VEVENT
DTSTART;TZID=Europe/Berlin:20260323T150000
DTEND;TZID=Europe/Berlin:20260323T150000
DTSTAMP:20260421T145012
CREATED:20260211T151656Z
LAST-MODIFIED:20260211T151700Z
UID:63669-1774278000-1774278000@www.kloster-ettal.de
SUMMARY:Basilikaführung
DESCRIPTION:Erleben Sie die barocke Pracht der Basilika Ettal und erfahren Sie mehr über ihre Architektur\, das berühmte Gnadenbild und die jahrhundertealte Geschichte der Benediktiner. \n\nDauer: 30-45 Minuten\nKosten: 5\,00 € pro Person (Kinder bis 12 Jahre sind frei\, Jugendlichen zwischen 12-18 Jahren erhalten 50% Ermäßigung)\nEinschränkungen: An Feiertagen sowie bei klösterlichen Veranstaltungen und während Gottesdiensten finden die Führungen nicht statt
URL:https://www.kloster-ettal.de/event/basilikafuehrung-48/
LOCATION:Basilika
CATEGORIES:Führung
ATTACH;FMTTYPE=image/webp:https://www.kloster-ettal.de/wp-content/uploads/2025/03/fuehrung-durch-die-basilika.webp
END:VEVENT
END:VCALENDAR