BEGIN:VCALENDAR
VERSION:2.0
PRODID:-//Kloster Ettal - ECPv6.15.20//NONSGML v1.0//EN
CALSCALE:GREGORIAN
METHOD:PUBLISH
X-ORIGINAL-URL:https://www.kloster-ettal.de
X-WR-CALDESC:Veranstaltungen für Kloster Ettal
REFRESH-INTERVAL;VALUE=DURATION:PT1H
X-Robots-Tag:noindex
X-PUBLISHED-TTL:PT1H
BEGIN:VTIMEZONE
TZID:Europe/Berlin
BEGIN:DAYLIGHT
TZOFFSETFROM:+0100
TZOFFSETTO:+0200
TZNAME:CEST
DTSTART:20250330T010000
END:DAYLIGHT
BEGIN:STANDARD
TZOFFSETFROM:+0200
TZOFFSETTO:+0100
TZNAME:CET
DTSTART:20251026T010000
END:STANDARD
BEGIN:DAYLIGHT
TZOFFSETFROM:+0100
TZOFFSETTO:+0200
TZNAME:CEST
DTSTART:20260329T010000
END:DAYLIGHT
BEGIN:STANDARD
TZOFFSETFROM:+0200
TZOFFSETTO:+0100
TZNAME:CET
DTSTART:20261025T010000
END:STANDARD
BEGIN:DAYLIGHT
TZOFFSETFROM:+0100
TZOFFSETTO:+0200
TZNAME:CEST
DTSTART:20270328T010000
END:DAYLIGHT
BEGIN:STANDARD
TZOFFSETFROM:+0200
TZOFFSETTO:+0100
TZNAME:CET
DTSTART:20271031T010000
END:STANDARD
END:VTIMEZONE
BEGIN:VEVENT
DTSTART;TZID=Europe/Berlin:20260201T073000
DTEND;TZID=Europe/Berlin:20260201T073000
DTSTAMP:20260421T163051
CREATED:20260126T140100Z
LAST-MODIFIED:20260126T140220Z
UID:63365-1769931000-1769931000@www.kloster-ettal.de
SUMMARY:Eucharistiefeier für die armen Seelen
DESCRIPTION:
URL:https://www.kloster-ettal.de/event/eucharistiefeier-fuer-die-armen-seelen/
LOCATION:Gedächtniskapelle
CATEGORIES:Gottesdienst
ATTACH;FMTTYPE=image/webp:https://www.kloster-ettal.de/wp-content/uploads/2025/12/Gedaechtniskapelle.webp
END:VEVENT
BEGIN:VEVENT
DTSTART;TZID=Europe/Berlin:20260201T103000
DTEND;TZID=Europe/Berlin:20260201T103000
DTSTAMP:20260421T163051
CREATED:20260126T140147Z
LAST-MODIFIED:20260126T140150Z
UID:63364-1769941800-1769941800@www.kloster-ettal.de
SUMMARY:Eucharistiefeier
DESCRIPTION:f. + Clemens Plassmann u. Elisabeth Schneider\nf. + Harald Strong
URL:https://www.kloster-ettal.de/event/eucharistiefeier-31/
LOCATION:Gedächtniskapelle
CATEGORIES:Gottesdienst
ATTACH;FMTTYPE=image/webp:https://www.kloster-ettal.de/wp-content/uploads/2025/12/Gedaechtniskapelle.webp
END:VEVENT
BEGIN:VEVENT
DTSTART;TZID=Europe/Berlin:20260201T180000
DTEND;TZID=Europe/Berlin:20260201T180000
DTSTAMP:20260421T163051
CREATED:20260126T140237Z
LAST-MODIFIED:20260126T140250Z
UID:63366-1769968800-1769968800@www.kloster-ettal.de
SUMMARY:Vesper
DESCRIPTION:
URL:https://www.kloster-ettal.de/event/vesper-20/
LOCATION:Gedächtniskapelle
CATEGORIES:Gottesdienst
ATTACH;FMTTYPE=image/webp:https://www.kloster-ettal.de/wp-content/uploads/2025/12/Gedaechtniskapelle.webp
END:VEVENT
BEGIN:VEVENT
DTSTART;TZID=Europe/Berlin:20260202T180000
DTEND;TZID=Europe/Berlin:20260202T180000
DTSTAMP:20260421T163051
CREATED:20260126T140600Z
LAST-MODIFIED:20260126T140600Z
UID:63373-1770055200-1770055200@www.kloster-ettal.de
SUMMARY:Vesper
DESCRIPTION:
URL:https://www.kloster-ettal.de/event/vesper-21/
LOCATION:Gedächtniskapelle
CATEGORIES:Gottesdienst
ATTACH;FMTTYPE=image/webp:https://www.kloster-ettal.de/wp-content/uploads/2025/12/Gedaechtniskapelle.webp
END:VEVENT
BEGIN:VEVENT
DTSTART;TZID=Europe/Berlin:20260202T193000
DTEND;TZID=Europe/Berlin:20260202T193000
DTSTAMP:20260421T163051
CREATED:20260126T140515Z
LAST-MODIFIED:20260129T172404Z
UID:63371-1770060600-1770060600@www.kloster-ettal.de
SUMMARY:Fest der Darstellung des Herrn – Lichtmess
DESCRIPTION:40 Tage nach Weihnachten\, also am 2. Februar\, feiern wir das Fest der Darstellung des Herrn. Der Gottesdienst um 19:30 h ist dadurch ausgezeichnet\, dass wir in unserer schönen Sakristei beginnen. Dort werden zunächst die Kerzen\, welche die Gottesdienstbesucher mitbringen\, gesegnet. In einer Lichterprozession ziehen wir dann durch den Kreuzgang in die Gedächtniskapelle\, wo wir die heilige Messe feiern. Das Evangelium dieses Tages erzählt davon\, dass Maria und Josef das Jesuskind zum Tempel nach Jerusalem bringen. Dort treffen sie auf zwei schon sehr alte Menschen\, auf Hanna und auf Simeon\, der das Jesuskind in seine Arme nimmt und als das Licht und das Heil für alle Völker begrüßt. Zur Feier dieses Gottesdienstes\, mit dem in früheren Zeiten die Weihnachtszeit abgeschlossen wurde\, laden wir herzlich ein: \nMontag\, 2. Februar 2026\,\n19:30 h Segnung der Kerzen in der Sakristei\nanschließend Pontifikalamt in der Gedächtniskapelle. \nBis zu diesem Tag ist unserer Basilika auch noch unsere Weihnachtskrippe und der große Christbaum zu sehen. Ab Dienstag wird der weihnachtliche Schmuck in der Kirche nach und nach abgebaut. \nDa am Dienstag\, 3. Februar\, übrigens der Gedenktag des Märtyrers Blasius ist\, kann sowohl am Montag als auch am Dienstag jeweils nach der Messfeier der Blasiussegen empfangen werden.
URL:https://www.kloster-ettal.de/event/fest-der-darstellung-des-herrn-lichtmess/
LOCATION:Gedächtniskapelle
CATEGORIES:Gottesdienst
ATTACH;FMTTYPE=image/webp:https://www.kloster-ettal.de/wp-content/uploads/2025/12/Gedaechtniskapelle.webp
END:VEVENT
BEGIN:VEVENT
DTSTART;TZID=Europe/Berlin:20260203T180000
DTEND;TZID=Europe/Berlin:20260203T180000
DTSTAMP:20260421T163051
CREATED:20260126T140712Z
LAST-MODIFIED:20260126T140716Z
UID:63377-1770141600-1770141600@www.kloster-ettal.de
SUMMARY:Vesper
DESCRIPTION:
URL:https://www.kloster-ettal.de/event/vesper-22/
LOCATION:Gedächtniskapelle
CATEGORIES:Gottesdienst
ATTACH;FMTTYPE=image/webp:https://www.kloster-ettal.de/wp-content/uploads/2025/12/Gedaechtniskapelle.webp
END:VEVENT
BEGIN:VEVENT
DTSTART;TZID=Europe/Berlin:20260203T193000
DTEND;TZID=Europe/Berlin:20260203T193000
DTSTAMP:20260421T163051
CREATED:20260126T140656Z
LAST-MODIFIED:20260126T140752Z
UID:63372-1770147000-1770147000@www.kloster-ettal.de
SUMMARY:Eucharistiefeier
DESCRIPTION:
URL:https://www.kloster-ettal.de/event/eucharistiefeier-32/
LOCATION:Gedächtniskapelle
CATEGORIES:Gottesdienst
ATTACH;FMTTYPE=image/webp:https://www.kloster-ettal.de/wp-content/uploads/2025/12/Gedaechtniskapelle.webp
END:VEVENT
BEGIN:VEVENT
DTSTART;TZID=Europe/Berlin:20260204T060000
DTEND;TZID=Europe/Berlin:20260204T060000
DTSTAMP:20260421T163051
CREATED:20260126T140830Z
LAST-MODIFIED:20260126T140834Z
UID:63379-1770184800-1770184800@www.kloster-ettal.de
SUMMARY:Eucharistiefeier
DESCRIPTION:
URL:https://www.kloster-ettal.de/event/eucharistiefeier-33/
LOCATION:Gedächtniskapelle
CATEGORIES:Gottesdienst
ATTACH;FMTTYPE=image/webp:https://www.kloster-ettal.de/wp-content/uploads/2025/12/Gedaechtniskapelle.webp
END:VEVENT
BEGIN:VEVENT
DTSTART;TZID=Europe/Berlin:20260204T180000
DTEND;TZID=Europe/Berlin:20260204T180000
DTSTAMP:20260421T163051
CREATED:20260126T141101Z
LAST-MODIFIED:20260126T141104Z
UID:63381-1770228000-1770228000@www.kloster-ettal.de
SUMMARY:Vesper
DESCRIPTION:
URL:https://www.kloster-ettal.de/event/vesper-23/
LOCATION:Gedächtniskapelle
CATEGORIES:Gottesdienst
ATTACH;FMTTYPE=image/webp:https://www.kloster-ettal.de/wp-content/uploads/2025/12/Gedaechtniskapelle.webp
END:VEVENT
BEGIN:VEVENT
DTSTART;TZID=Europe/Berlin:20260205T150000
DTEND;TZID=Europe/Berlin:20260205T150000
DTSTAMP:20260421T163051
CREATED:20260128T125003Z
LAST-MODIFIED:20260128T125007Z
UID:63402-1770303600-1770303600@www.kloster-ettal.de
SUMMARY:Basilikaführung
DESCRIPTION:Erleben Sie die barocke Pracht der Basilika Ettal und erfahren Sie mehr über ihre Architektur\, das berühmte Gnadenbild und die jahrhundertealte Geschichte der Benediktiner. \n\nDauer: 30-45 Minuten\nKosten: 5\,00 € pro Person (Kinder bis 12 Jahre sind frei\, Jugendlichen zwischen 12-18 Jahren erhalten 50% Ermäßigung)\nEinschränkungen: An Feiertagen sowie bei klösterlichen Veranstaltungen und während Gottesdiensten finden die Führungen nicht statt
URL:https://www.kloster-ettal.de/event/basilikafuehrung-14/
LOCATION:Basilika
CATEGORIES:Führung
ATTACH;FMTTYPE=image/webp:https://www.kloster-ettal.de/wp-content/uploads/2025/03/fuehrung-durch-die-basilika.webp
END:VEVENT
BEGIN:VEVENT
DTSTART;TZID=Europe/Berlin:20260205T160000
DTEND;TZID=Europe/Berlin:20260205T160000
DTSTAMP:20260421T163051
CREATED:20260128T125548Z
LAST-MODIFIED:20260128T125551Z
UID:63425-1770307200-1770307200@www.kloster-ettal.de
SUMMARY:Liqueurmanufaktur-Führung
DESCRIPTION:In unserer Manufaktur entstehen nach überlieferten Rezepten edle Kräuterliköre und Destillate\, deren Herstellung wir Ihnen gerne näher bringen. \n\nDauer 45 Minuten\, inkl. Likörprobe\nKosten: 9\,00 € pro Person\nKinder bis 12 Jahre sind frei (Jugendliche zwischen 12 und 18 Jahre erhalten 50% Ermäßigung
URL:https://www.kloster-ettal.de/event/liqueurmanufaktur-fuehrung-14/
LOCATION:Liqueurmanufaktur\, Kaiser-Ludwig-Platz 1\, Ettal\, Bayern\, 82488\, Germany
CATEGORIES:Führung
ATTACH;FMTTYPE=image/webp:https://www.kloster-ettal.de/wp-content/uploads/2025/03/liqueurmanufaktur-fuehrung.webp
END:VEVENT
BEGIN:VEVENT
DTSTART;TZID=Europe/Berlin:20260205T180000
DTEND;TZID=Europe/Berlin:20260205T180000
DTSTAMP:20260421T163051
CREATED:20260126T141245Z
LAST-MODIFIED:20260126T141247Z
UID:63383-1770314400-1770314400@www.kloster-ettal.de
SUMMARY:Vesper
DESCRIPTION:
URL:https://www.kloster-ettal.de/event/vesper-24/
LOCATION:Gedächtniskapelle
CATEGORIES:Gottesdienst
ATTACH;FMTTYPE=image/webp:https://www.kloster-ettal.de/wp-content/uploads/2025/12/Gedaechtniskapelle.webp
END:VEVENT
BEGIN:VEVENT
DTSTART;TZID=Europe/Berlin:20260205T193000
DTEND;TZID=Europe/Berlin:20260205T193000
DTSTAMP:20260421T163051
CREATED:20260126T141157Z
LAST-MODIFIED:20260126T141226Z
UID:63384-1770319800-1770319800@www.kloster-ettal.de
SUMMARY:Eucharistiefeier
DESCRIPTION:
URL:https://www.kloster-ettal.de/event/eucharistiefeier-34/
LOCATION:Gedächtniskapelle
CATEGORIES:Gottesdienst
ATTACH;FMTTYPE=image/webp:https://www.kloster-ettal.de/wp-content/uploads/2025/12/Gedaechtniskapelle.webp
END:VEVENT
BEGIN:VEVENT
DTSTART;TZID=Europe/Berlin:20260206T060000
DTEND;TZID=Europe/Berlin:20260206T060000
DTSTAMP:20260421T163051
CREATED:20260126T141340Z
LAST-MODIFIED:20260126T141343Z
UID:63387-1770357600-1770357600@www.kloster-ettal.de
SUMMARY:Eucharistiefeier
DESCRIPTION:
URL:https://www.kloster-ettal.de/event/eucharistiefeier-35/
LOCATION:Gedächtniskapelle
CATEGORIES:Gottesdienst
ATTACH;FMTTYPE=image/webp:https://www.kloster-ettal.de/wp-content/uploads/2025/12/Gedaechtniskapelle.webp
END:VEVENT
BEGIN:VEVENT
DTSTART;TZID=Europe/Berlin:20260206T150000
DTEND;TZID=Europe/Berlin:20260206T150000
DTSTAMP:20260421T163051
CREATED:20260128T130036Z
LAST-MODIFIED:20260128T130040Z
UID:63434-1770390000-1770390000@www.kloster-ettal.de
SUMMARY:Brauereiführung
DESCRIPTION:Wir zeigen Ihnen\, wie das berühmte Ettaler Bier nach alter Handwerkstradition gebraut wird – mit anschließender Verkostung. \n\nDauer: 60 Minuten inkl. Bierprobe\nKosten: 12\,00 € pro Person\nKinder bis 12 Jahre frei (Jugendliche zwischen 12 und 18 Jahre: 50% Ermäßigung)
URL:https://www.kloster-ettal.de/event/brauereifuehrung-12/
LOCATION:Klosterbrauerei\, Kaiser-Ludwig-Platz 1\, Ettal\, Bayern\, 82488\, Germany
CATEGORIES:Führung
ATTACH;FMTTYPE=image/webp:https://www.kloster-ettal.de/wp-content/uploads/2025/03/brauereifuehrung-veranstaltung.webp
END:VEVENT
BEGIN:VEVENT
DTSTART;TZID=Europe/Berlin:20260206T180000
DTEND;TZID=Europe/Berlin:20260206T180000
DTSTAMP:20260421T163051
CREATED:20260126T141401Z
LAST-MODIFIED:20260126T141404Z
UID:63388-1770400800-1770400800@www.kloster-ettal.de
SUMMARY:Vesper
DESCRIPTION:
URL:https://www.kloster-ettal.de/event/vesper-25/
LOCATION:Gedächtniskapelle
CATEGORIES:Gottesdienst
ATTACH;FMTTYPE=image/webp:https://www.kloster-ettal.de/wp-content/uploads/2025/12/Gedaechtniskapelle.webp
END:VEVENT
BEGIN:VEVENT
DTSTART;TZID=Europe/Berlin:20260206T190000
DTEND;TZID=Europe/Berlin:20260206T190000
DTSTAMP:20260421T163051
CREATED:20260205T102051Z
LAST-MODIFIED:20260205T102056Z
UID:63515-1770404400-1770404400@www.kloster-ettal.de
SUMMARY:Benediktinergymnasium: Informationsabend zur 5. Klasse in Ettal
DESCRIPTION:Die Veranstaltung findet in der Hauskapelle des Gymnasiums statt.
URL:https://www.kloster-ettal.de/event/benediktinergymnasium-informationsabend-zur-5-klasse-in-ettal/
CATEGORIES:Sonstiges
END:VEVENT
BEGIN:VEVENT
DTSTART;TZID=Europe/Berlin:20260207T064500
DTEND;TZID=Europe/Berlin:20260207T064500
DTSTAMP:20260421T163051
CREATED:20260126T141435Z
LAST-MODIFIED:20260126T141438Z
UID:63391-1770446700-1770446700@www.kloster-ettal.de
SUMMARY:Eucharistiefeier
DESCRIPTION:
URL:https://www.kloster-ettal.de/event/eucharistiefeier-36/
LOCATION:Gedächtniskapelle
CATEGORIES:Gottesdienst
ATTACH;FMTTYPE=image/webp:https://www.kloster-ettal.de/wp-content/uploads/2025/12/Gedaechtniskapelle.webp
END:VEVENT
BEGIN:VEVENT
DTSTART;TZID=Europe/Berlin:20260207T090000
DTEND;TZID=Europe/Berlin:20260207T130000
DTSTAMP:20260421T163051
CREATED:20260205T102808Z
LAST-MODIFIED:20260205T120407Z
UID:63517-1770454800-1770469200@www.kloster-ettal.de
SUMMARY:Tag der offenen Tür
DESCRIPTION:Das Benediktinergymnasium Ettal lädt Groß und Klein zu einem Infotag ein.\nEin Eintreffen um 9 Uhr wird empfohlen. \nAblauf: \nGemeinsame Begrüßung: 9 Uhr in der Hauskapelle\nHausrallyes für Kinder: Start ab 9:15 Uhr (mit Quiz\, Experimenten\, Schnupperstunden und Sportaktionen)\nFührungen für Eltern durch Schule und Tagesheim\nGesprächsmöglichkeiten mit Schülern\, Lehrern\, Eltern und Erziehern\nVorträge für Eltern\nBastel- und Spielaktionen für kleinere Geschwisterkinder
URL:https://www.kloster-ettal.de/event/tag-der-offenen-tuer-im-benediktinergymnasium-ettal/
END:VEVENT
BEGIN:VEVENT
DTSTART;TZID=Europe/Berlin:20260207T180000
DTEND;TZID=Europe/Berlin:20260207T180000
DTSTAMP:20260421T163051
CREATED:20260126T141500Z
LAST-MODIFIED:20260126T141503Z
UID:63392-1770487200-1770487200@www.kloster-ettal.de
SUMMARY:Vesper
DESCRIPTION:
URL:https://www.kloster-ettal.de/event/vesper-26/
LOCATION:Gedächtniskapelle
CATEGORIES:Gottesdienst
ATTACH;FMTTYPE=image/webp:https://www.kloster-ettal.de/wp-content/uploads/2025/12/Gedaechtniskapelle.webp
END:VEVENT
BEGIN:VEVENT
DTSTART;TZID=Europe/Berlin:20260208T073000
DTEND;TZID=Europe/Berlin:20260208T073000
DTSTAMP:20260421T163051
CREATED:20260126T141552Z
LAST-MODIFIED:20260126T141555Z
UID:63395-1770535800-1770535800@www.kloster-ettal.de
SUMMARY:Eucharistiefeier
DESCRIPTION:f. + Heinrich und Hedwig Steitz
URL:https://www.kloster-ettal.de/event/eucharistiefeier-37/
LOCATION:Gedächtniskapelle
CATEGORIES:Gottesdienst
ATTACH;FMTTYPE=image/webp:https://www.kloster-ettal.de/wp-content/uploads/2025/12/Gedaechtniskapelle.webp
END:VEVENT
BEGIN:VEVENT
DTSTART;TZID=Europe/Berlin:20260208T103000
DTEND;TZID=Europe/Berlin:20260208T103000
DTSTAMP:20260421T163051
CREATED:20260126T141619Z
LAST-MODIFIED:20260126T141621Z
UID:63396-1770546600-1770546600@www.kloster-ettal.de
SUMMARY:Eucharistiefeier
DESCRIPTION:
URL:https://www.kloster-ettal.de/event/eucharistiefeier-38/
LOCATION:Gedächtniskapelle
CATEGORIES:Gottesdienst
ATTACH;FMTTYPE=image/webp:https://www.kloster-ettal.de/wp-content/uploads/2025/12/Gedaechtniskapelle.webp
END:VEVENT
BEGIN:VEVENT
DTSTART;TZID=Europe/Berlin:20260208T180000
DTEND;TZID=Europe/Berlin:20260208T180000
DTSTAMP:20260421T163051
CREATED:20260126T141639Z
LAST-MODIFIED:20260126T141647Z
UID:63397-1770573600-1770573600@www.kloster-ettal.de
SUMMARY:Vesper
DESCRIPTION:
URL:https://www.kloster-ettal.de/event/vesper-27/
LOCATION:Gedächtniskapelle
CATEGORIES:Gottesdienst
ATTACH;FMTTYPE=image/webp:https://www.kloster-ettal.de/wp-content/uploads/2025/12/Gedaechtniskapelle.webp
END:VEVENT
BEGIN:VEVENT
DTSTART;TZID=Europe/Berlin:20260209T060000
DTEND;TZID=Europe/Berlin:20260209T060000
DTSTAMP:20260421T163051
CREATED:20260209T085211Z
LAST-MODIFIED:20260209T085216Z
UID:63532-1770616800-1770616800@www.kloster-ettal.de
SUMMARY:Eucharistiefeier
DESCRIPTION:
URL:https://www.kloster-ettal.de/event/eucharistiefeier-39/
LOCATION:Gedächtniskapelle
CATEGORIES:Gottesdienst
ATTACH;FMTTYPE=image/webp:https://www.kloster-ettal.de/wp-content/uploads/2025/12/Gedaechtniskapelle.webp
END:VEVENT
BEGIN:VEVENT
DTSTART;TZID=Europe/Berlin:20260209T180000
DTEND;TZID=Europe/Berlin:20260209T180000
DTSTAMP:20260421T163051
CREATED:20260209T085247Z
LAST-MODIFIED:20260209T085308Z
UID:63533-1770660000-1770660000@www.kloster-ettal.de
SUMMARY:Vesper
DESCRIPTION:
URL:https://www.kloster-ettal.de/event/vesper-28/
LOCATION:Gedächtniskapelle
CATEGORIES:Gottesdienst
ATTACH;FMTTYPE=image/webp:https://www.kloster-ettal.de/wp-content/uploads/2025/12/Gedaechtniskapelle.webp
END:VEVENT
BEGIN:VEVENT
DTSTART;TZID=Europe/Berlin:20260210T180000
DTEND;TZID=Europe/Berlin:20260210T180000
DTSTAMP:20260421T163051
CREATED:20260209T085339Z
LAST-MODIFIED:20260209T085345Z
UID:63536-1770746400-1770746400@www.kloster-ettal.de
SUMMARY:Vesper
DESCRIPTION:
URL:https://www.kloster-ettal.de/event/vesper-29/
LOCATION:Gedächtniskapelle
CATEGORIES:Gottesdienst
ATTACH;FMTTYPE=image/webp:https://www.kloster-ettal.de/wp-content/uploads/2025/12/Gedaechtniskapelle.webp
END:VEVENT
BEGIN:VEVENT
DTSTART;TZID=Europe/Berlin:20260210T193000
DTEND;TZID=Europe/Berlin:20260210T193000
DTSTAMP:20260421T163051
CREATED:20260209T085415Z
LAST-MODIFIED:20260209T085420Z
UID:63531-1770751800-1770751800@www.kloster-ettal.de
SUMMARY:Eucharistiefeier
DESCRIPTION:f. + Wolfgang Mayer
URL:https://www.kloster-ettal.de/event/eucharistiefeier-40/
LOCATION:Gedächtniskapelle
CATEGORIES:Gottesdienst
ATTACH;FMTTYPE=image/webp:https://www.kloster-ettal.de/wp-content/uploads/2025/12/Gedaechtniskapelle.webp
END:VEVENT
BEGIN:VEVENT
DTSTART;TZID=Europe/Berlin:20260211T060000
DTEND;TZID=Europe/Berlin:20260211T060000
DTSTAMP:20260421T163051
CREATED:20260209T085514Z
LAST-MODIFIED:20260209T085717Z
UID:63539-1770789600-1770789600@www.kloster-ettal.de
SUMMARY:Eucharistiefeier
DESCRIPTION:f. + Axel und Achim Mall und Eltern
URL:https://www.kloster-ettal.de/event/eucharistiefeier-41/
LOCATION:Gedächtniskapelle
CATEGORIES:Gottesdienst
ATTACH;FMTTYPE=image/webp:https://www.kloster-ettal.de/wp-content/uploads/2025/12/Gedaechtniskapelle.webp
END:VEVENT
BEGIN:VEVENT
DTSTART;TZID=Europe/Berlin:20260211T180000
DTEND;TZID=Europe/Berlin:20260211T180000
DTSTAMP:20260421T163051
CREATED:20260209T085541Z
LAST-MODIFIED:20260209T085546Z
UID:63540-1770832800-1770832800@www.kloster-ettal.de
SUMMARY:Vesper
DESCRIPTION:
URL:https://www.kloster-ettal.de/event/vesper-30/
LOCATION:Gedächtniskapelle
CATEGORIES:Gottesdienst
ATTACH;FMTTYPE=image/webp:https://www.kloster-ettal.de/wp-content/uploads/2025/12/Gedaechtniskapelle.webp
END:VEVENT
BEGIN:VEVENT
DTSTART;TZID=Europe/Berlin:20260211T190000
DTEND;TZID=Europe/Berlin:20260211T190000
DTSTAMP:20260421T163051
CREATED:20260211T133826Z
LAST-MODIFIED:20260211T134218Z
UID:63564-1770836400-1770836400@www.kloster-ettal.de
SUMMARY:Vorspielabend der 5. und 6. Klassen
DESCRIPTION:Die Veranstaltung findet in der Hauskapelle des Benediktinergymnasiums statt. \nHinweis: Eine Maskierung ist erwünscht.
URL:https://www.kloster-ettal.de/event/vorspielabend-der-5-und-6-klassen-maskierung-erwuenscht/
LOCATION:Gymnasium\, Gymnasium
CATEGORIES:Sonstiges
END:VEVENT
END:VCALENDAR