BEGIN:VCALENDAR
VERSION:2.0
PRODID:-//Kloster Ettal - ECPv6.15.20//NONSGML v1.0//EN
CALSCALE:GREGORIAN
METHOD:PUBLISH
X-WR-CALNAME:Kloster Ettal
X-ORIGINAL-URL:https://www.kloster-ettal.de
X-WR-CALDESC:Veranstaltungen für Kloster Ettal
REFRESH-INTERVAL;VALUE=DURATION:PT1H
X-Robots-Tag:noindex
X-PUBLISHED-TTL:PT1H
BEGIN:VTIMEZONE
TZID:Europe/Berlin
BEGIN:DAYLIGHT
TZOFFSETFROM:+0100
TZOFFSETTO:+0200
TZNAME:CEST
DTSTART:20250330T010000
END:DAYLIGHT
BEGIN:STANDARD
TZOFFSETFROM:+0200
TZOFFSETTO:+0100
TZNAME:CET
DTSTART:20251026T010000
END:STANDARD
BEGIN:DAYLIGHT
TZOFFSETFROM:+0100
TZOFFSETTO:+0200
TZNAME:CEST
DTSTART:20260329T010000
END:DAYLIGHT
BEGIN:STANDARD
TZOFFSETFROM:+0200
TZOFFSETTO:+0100
TZNAME:CET
DTSTART:20261025T010000
END:STANDARD
BEGIN:DAYLIGHT
TZOFFSETFROM:+0100
TZOFFSETTO:+0200
TZNAME:CEST
DTSTART:20270328T010000
END:DAYLIGHT
BEGIN:STANDARD
TZOFFSETFROM:+0200
TZOFFSETTO:+0100
TZNAME:CET
DTSTART:20271031T010000
END:STANDARD
END:VTIMEZONE
BEGIN:VEVENT
DTSTART;TZID=Europe/Berlin:20260101T103000
DTEND;TZID=Europe/Berlin:20260101T103000
DTSTAMP:20260421T175656
CREATED:20251208T153902Z
LAST-MODIFIED:20251217T141730Z
UID:63073-1767263400-1767263400@www.kloster-ettal.de
SUMMARY:Eucharistiefeier
DESCRIPTION:Der Gottesdienst findet in der Basilika statt.
URL:https://www.kloster-ettal.de/event/eucharistiefeier/
LOCATION:Basilika
CATEGORIES:Gottesdienst
ATTACH;FMTTYPE=image/webp:https://www.kloster-ettal.de/wp-content/uploads/2025/12/Gottesdienst.webp
END:VEVENT
BEGIN:VEVENT
DTSTART;TZID=Europe/Berlin:20260101T180000
DTEND;TZID=Europe/Berlin:20260101T180000
DTSTAMP:20260421T175656
CREATED:20251208T153951Z
LAST-MODIFIED:20251217T141721Z
UID:63075-1767290400-1767290400@www.kloster-ettal.de
SUMMARY:Feierliche Vesper
DESCRIPTION:Der Gottesdienst findet in der Basilika statt.
URL:https://www.kloster-ettal.de/event/feierliche-vesper-2/
LOCATION:Basilika
CATEGORIES:Gottesdienst
ATTACH;FMTTYPE=image/webp:https://www.kloster-ettal.de/wp-content/uploads/2025/12/Gottesdienst.webp
END:VEVENT
BEGIN:VEVENT
DTSTART;TZID=Europe/Berlin:20260104T064500
DTEND;TZID=Europe/Berlin:20260104T064500
DTSTAMP:20260421T175656
CREATED:20251208T154057Z
LAST-MODIFIED:20251217T140241Z
UID:63077-1767509100-1767509100@www.kloster-ettal.de
SUMMARY:Eucharistiefeier
DESCRIPTION:Der Gottesdienst findet in der Gedächtniskapelle statt.
URL:https://www.kloster-ettal.de/event/eucharistiefeier-2/
LOCATION:Gedächtniskapelle
CATEGORIES:Gottesdienst
ATTACH;FMTTYPE=image/webp:https://www.kloster-ettal.de/wp-content/uploads/2025/12/Gedaechtniskapelle.webp
END:VEVENT
BEGIN:VEVENT
DTSTART;TZID=Europe/Berlin:20260104T103000
DTEND;TZID=Europe/Berlin:20260104T103000
DTSTAMP:20260421T175656
CREATED:20251208T160738Z
LAST-MODIFIED:20251208T160738Z
UID:63094-1767522600-1767522600@www.kloster-ettal.de
SUMMARY:Eucharistiefeier
DESCRIPTION:Der Gottesdienst findet in der Basilika statt.
URL:https://www.kloster-ettal.de/event/eucharistiefeier-5/
LOCATION:Basilika
CATEGORIES:Gottesdienst
ATTACH;FMTTYPE=image/webp:https://www.kloster-ettal.de/wp-content/uploads/2025/12/Gottesdienst.webp
END:VEVENT
BEGIN:VEVENT
DTSTART;TZID=Europe/Berlin:20260104T180000
DTEND;TZID=Europe/Berlin:20260104T180000
DTSTAMP:20260421T175656
CREATED:20251208T154451Z
LAST-MODIFIED:20251208T155722Z
UID:63079-1767549600-1767549600@www.kloster-ettal.de
SUMMARY:Vesper
DESCRIPTION:Der Gottesdienst findet in der Gedächtniskapelle statt.
URL:https://www.kloster-ettal.de/event/vesper/
LOCATION:Gedächtniskapelle
CATEGORIES:Gottesdienst
ATTACH;FMTTYPE=image/webp:https://www.kloster-ettal.de/wp-content/uploads/2025/12/Gedaechtniskapelle.webp
END:VEVENT
BEGIN:VEVENT
DTSTART;TZID=Europe/Berlin:20260105T064500
DTEND;TZID=Europe/Berlin:20260105T064500
DTSTAMP:20260421T175656
CREATED:20251208T154836Z
LAST-MODIFIED:20251208T155751Z
UID:63083-1767595500-1767595500@www.kloster-ettal.de
SUMMARY:Eucharistiefeier
DESCRIPTION:Der Gottesdienst findet in der Gedächtniskapelle statt.
URL:https://www.kloster-ettal.de/event/eucharistiefeier-3/
LOCATION:Gedächtniskapelle
CATEGORIES:Gottesdienst
ATTACH;FMTTYPE=image/webp:https://www.kloster-ettal.de/wp-content/uploads/2025/12/Gedaechtniskapelle.webp
END:VEVENT
BEGIN:VEVENT
DTSTART;TZID=Europe/Berlin:20260105T150000
DTEND;TZID=Europe/Berlin:20260105T150000
DTSTAMP:20260421T175656
CREATED:20251218T101907Z
LAST-MODIFIED:20251218T101910Z
UID:63168-1767625200-1767625200@www.kloster-ettal.de
SUMMARY:Basilikaführung
DESCRIPTION:Erleben Sie die barocke Pracht der Basilika Ettal und erfahren Sie mehr über ihre Architektur\, das berühmte Gnadenbild und die jahrhundertealte Geschichte der Benediktiner. \n\nDauer: 30-45 Minuten\nKosten: 5\,00 € pro Person (Kinder bis 12 Jahre sind frei\, Jugendlichen zwischen 12-18 Jahren erhalten 50% Ermäßigung)\nEinschränkungen: An Feiertagen sowie bei klösterlichen Veranstaltungen und während Gottesdiensten finden die Führungen nicht statt
URL:https://www.kloster-ettal.de/event/basilikafuehrung-8/
LOCATION:Basilika
CATEGORIES:Führung
ATTACH;FMTTYPE=image/webp:https://www.kloster-ettal.de/wp-content/uploads/2025/03/fuehrung-durch-die-basilika.webp
END:VEVENT
BEGIN:VEVENT
DTSTART;TZID=Europe/Berlin:20260105T160000
DTEND;TZID=Europe/Berlin:20260105T160000
DTSTAMP:20260421T175656
CREATED:20251219T095340Z
LAST-MODIFIED:20251219T095344Z
UID:63235-1767628800-1767628800@www.kloster-ettal.de
SUMMARY:Liqueurmanufaktur-Führung
DESCRIPTION:In unserer Manufaktur entstehen nach überlieferten Rezepten edle Kräuterliköre und Destillate\, deren Herstellung wir Ihnen gerne näher bringen. \n\nDauer 45 Minuten\, inkl. Likörprobe\nKosten: 9\,00 € pro Person\nKinder bis 12 Jahre sind frei (Jugendliche zwischen 12 und 18 Jahre erhalten 50% Ermäßigung
URL:https://www.kloster-ettal.de/event/liqueurmanufaktur-fuehrung-8/
LOCATION:Liqueurmanufaktur\, Kaiser-Ludwig-Platz 1\, Ettal\, Bayern\, 82488\, Germany
CATEGORIES:Führung
ATTACH;FMTTYPE=image/webp:https://www.kloster-ettal.de/wp-content/uploads/2025/03/liqueurmanufaktur-fuehrung.webp
END:VEVENT
BEGIN:VEVENT
DTSTART;TZID=Europe/Berlin:20260105T180000
DTEND;TZID=Europe/Berlin:20260105T180000
DTSTAMP:20260421T175656
CREATED:20251208T154625Z
LAST-MODIFIED:20251208T155737Z
UID:63081-1767636000-1767636000@www.kloster-ettal.de
SUMMARY:Pontifikalvesper
DESCRIPTION:Der Gottesdienst findet in der Basilika statt.
URL:https://www.kloster-ettal.de/event/pontifikalvesper/
LOCATION:Basilika
CATEGORIES:Gottesdienst
ATTACH;FMTTYPE=image/webp:https://www.kloster-ettal.de/wp-content/uploads/2025/12/Gottesdienst.webp
END:VEVENT
BEGIN:VEVENT
DTSTART;TZID=Europe/Berlin:20260105T193000
DTEND;TZID=Europe/Berlin:20260105T193000
DTSTAMP:20260421T175656
CREATED:20251208T154940Z
LAST-MODIFIED:20251208T155700Z
UID:63085-1767641400-1767641400@www.kloster-ettal.de
SUMMARY:Feierliche Vigil
DESCRIPTION:Der Gottesdienst findet in der Gedächtniskapelle statt.
URL:https://www.kloster-ettal.de/event/feierliche-vigil/
LOCATION:Gedächtniskapelle
CATEGORIES:Gottesdienst
ATTACH;FMTTYPE=image/webp:https://www.kloster-ettal.de/wp-content/uploads/2025/12/Gedaechtniskapelle.webp
END:VEVENT
BEGIN:VEVENT
DTSTART;TZID=Europe/Berlin:20260106T073000
DTEND;TZID=Europe/Berlin:20260106T073000
DTSTAMP:20260421T175656
CREATED:20251208T155209Z
LAST-MODIFIED:20251208T155646Z
UID:63088-1767684600-1767684600@www.kloster-ettal.de
SUMMARY:Eucharistiefeier
DESCRIPTION:Der Gottesdienst findet in der Gedächtniskapelle statt.
URL:https://www.kloster-ettal.de/event/eucharistiefeier-4/
LOCATION:Gedächtniskapelle
CATEGORIES:Gottesdienst
ATTACH;FMTTYPE=image/webp:https://www.kloster-ettal.de/wp-content/uploads/2025/12/Gedaechtniskapelle.webp
END:VEVENT
BEGIN:VEVENT
DTSTART;TZID=Europe/Berlin:20260106T103000
DTEND;TZID=Europe/Berlin:20260106T103000
DTSTAMP:20260421T175656
CREATED:20251208T155432Z
LAST-MODIFIED:20251208T160025Z
UID:63090-1767695400-1767695400@www.kloster-ettal.de
SUMMARY:Pontifikalamt
DESCRIPTION:Der Gottesdienst findet in der Basilika statt und wird feierlich mit Streichermusik der „Ammertaler Nervensägen“ gestaltet.
URL:https://www.kloster-ettal.de/event/pontifikalamt/
LOCATION:Basilika
CATEGORIES:Gottesdienst
ATTACH;FMTTYPE=image/webp:https://www.kloster-ettal.de/wp-content/uploads/2025/12/Gottesdienst.webp
END:VEVENT
BEGIN:VEVENT
DTSTART;TZID=Europe/Berlin:20260106T180000
DTEND;TZID=Europe/Berlin:20260106T180000
DTSTAMP:20260421T175656
CREATED:20251208T155530Z
LAST-MODIFIED:20251208T155624Z
UID:63092-1767722400-1767722400@www.kloster-ettal.de
SUMMARY:Pontifikalvesper
DESCRIPTION:Der Gottesdienst findet in der Basilika statt.
URL:https://www.kloster-ettal.de/event/pontifikalvesper-2/
LOCATION:Basilika
CATEGORIES:Gottesdienst
ATTACH;FMTTYPE=image/webp:https://www.kloster-ettal.de/wp-content/uploads/2025/12/Gottesdienst.webp
END:VEVENT
BEGIN:VEVENT
DTSTART;TZID=Europe/Berlin:20260108T150000
DTEND;TZID=Europe/Berlin:20260108T150000
DTSTAMP:20260421T175656
CREATED:20251218T101928Z
LAST-MODIFIED:20251218T101931Z
UID:63169-1767884400-1767884400@www.kloster-ettal.de
SUMMARY:Basilikaführung
DESCRIPTION:Erleben Sie die barocke Pracht der Basilika Ettal und erfahren Sie mehr über ihre Architektur\, das berühmte Gnadenbild und die jahrhundertealte Geschichte der Benediktiner. \n\nDauer: 30-45 Minuten\nKosten: 5\,00 € pro Person (Kinder bis 12 Jahre sind frei\, Jugendlichen zwischen 12-18 Jahren erhalten 50% Ermäßigung)\nEinschränkungen: An Feiertagen sowie bei klösterlichen Veranstaltungen und während Gottesdiensten finden die Führungen nicht statt
URL:https://www.kloster-ettal.de/event/basilikafuehrung-9/
LOCATION:Basilika
CATEGORIES:Führung
ATTACH;FMTTYPE=image/webp:https://www.kloster-ettal.de/wp-content/uploads/2025/03/fuehrung-durch-die-basilika.webp
END:VEVENT
BEGIN:VEVENT
DTSTART;TZID=Europe/Berlin:20260108T160000
DTEND;TZID=Europe/Berlin:20260108T160000
DTSTAMP:20260421T175656
CREATED:20251219T095501Z
LAST-MODIFIED:20251219T095506Z
UID:63236-1767888000-1767888000@www.kloster-ettal.de
SUMMARY:Liqueurmanufaktur-Führung
DESCRIPTION:In unserer Manufaktur entstehen nach überlieferten Rezepten edle Kräuterliköre und Destillate\, deren Herstellung wir Ihnen gerne näher bringen. \n\nDauer 45 Minuten\, inkl. Likörprobe\nKosten: 9\,00 € pro Person\nKinder bis 12 Jahre sind frei (Jugendliche zwischen 12 und 18 Jahre erhalten 50% Ermäßigung
URL:https://www.kloster-ettal.de/event/liqueurmanufaktur-fuehrung-9/
LOCATION:Liqueurmanufaktur\, Kaiser-Ludwig-Platz 1\, Ettal\, Bayern\, 82488\, Germany
CATEGORIES:Führung
ATTACH;FMTTYPE=image/webp:https://www.kloster-ettal.de/wp-content/uploads/2025/03/liqueurmanufaktur-fuehrung.webp
END:VEVENT
BEGIN:VEVENT
DTSTART;TZID=Europe/Berlin:20260109T150000
DTEND;TZID=Europe/Berlin:20260109T150000
DTSTAMP:20260421T175656
CREATED:20251219T094207Z
LAST-MODIFIED:20251219T094210Z
UID:63201-1767970800-1767970800@www.kloster-ettal.de
SUMMARY:Brauereiführung
DESCRIPTION:Wir zeigen Ihnen\, wie das berühmte Ettaler Bier nach alter Handwerkstradition gebraut wird – mit anschließender Verkostung. \n\nDauer: 60 Minuten inkl. Bierprobe\nKosten: 12\,00 € pro Person\nKinder bis 12 Jahre frei (Jugendliche zwischen 12 und 18 Jahre: 50% Ermäßigung)
URL:https://www.kloster-ettal.de/event/brauereifuehrung-7/
LOCATION:Klosterbrauerei\, Kaiser-Ludwig-Platz 1\, Ettal\, Bayern\, 82488\, Germany
CATEGORIES:Führung
ATTACH;FMTTYPE=image/webp:https://www.kloster-ettal.de/wp-content/uploads/2025/03/brauereifuehrung-veranstaltung.webp
END:VEVENT
BEGIN:VEVENT
DTSTART;TZID=Europe/Berlin:20260111T073000
DTEND;TZID=Europe/Berlin:20260111T073000
DTSTAMP:20260421T175656
CREATED:20260113T154727Z
LAST-MODIFIED:20260113T154732Z
UID:63291-1768116600-1768116600@www.kloster-ettal.de
SUMMARY:Eucharistiefeier
DESCRIPTION:f. + Angehörige der Familie Fallmann
URL:https://www.kloster-ettal.de/event/eucharistiefeier-13/
LOCATION:Gedächtniskapelle
CATEGORIES:Gottesdienst
ATTACH;FMTTYPE=image/webp:https://www.kloster-ettal.de/wp-content/uploads/2025/12/Gedaechtniskapelle.webp
END:VEVENT
BEGIN:VEVENT
DTSTART;TZID=Europe/Berlin:20260111T103000
DTEND;TZID=Europe/Berlin:20260111T103000
DTSTAMP:20260421T175656
CREATED:20260113T155005Z
LAST-MODIFIED:20260113T155010Z
UID:63293-1768127400-1768127400@www.kloster-ettal.de
SUMMARY:Eucharistiefeier
DESCRIPTION:f. + Irmgard Flemisch
URL:https://www.kloster-ettal.de/event/eucharistiefeier-14/
LOCATION:Gedächtniskapelle
CATEGORIES:Gottesdienst
ATTACH;FMTTYPE=image/webp:https://www.kloster-ettal.de/wp-content/uploads/2025/12/Gedaechtniskapelle.webp
END:VEVENT
BEGIN:VEVENT
DTSTART;TZID=Europe/Berlin:20260111T180000
DTEND;TZID=Europe/Berlin:20260111T180000
DTSTAMP:20260421T175656
CREATED:20260113T155126Z
LAST-MODIFIED:20260113T155131Z
UID:63295-1768154400-1768154400@www.kloster-ettal.de
SUMMARY:Vesper
DESCRIPTION:
URL:https://www.kloster-ettal.de/event/vesper-5/
LOCATION:Gedächtniskapelle
CATEGORIES:Gottesdienst
ATTACH;FMTTYPE=image/webp:https://www.kloster-ettal.de/wp-content/uploads/2025/12/Gedaechtniskapelle.webp
END:VEVENT
BEGIN:VEVENT
DTSTART;TZID=Europe/Berlin:20260112T060000
DTEND;TZID=Europe/Berlin:20260112T060000
DTSTAMP:20260421T175656
CREATED:20260113T155234Z
LAST-MODIFIED:20260113T155238Z
UID:63297-1768197600-1768197600@www.kloster-ettal.de
SUMMARY:Eucharistiefeier
DESCRIPTION:f. + Angehörige der Familie Fallmann
URL:https://www.kloster-ettal.de/event/eucharistiefeier-15/
LOCATION:Gedächtniskapelle
CATEGORIES:Gottesdienst
ATTACH;FMTTYPE=image/webp:https://www.kloster-ettal.de/wp-content/uploads/2025/12/Gedaechtniskapelle.webp
END:VEVENT
BEGIN:VEVENT
DTSTART;TZID=Europe/Berlin:20260112T150000
DTEND;TZID=Europe/Berlin:20260112T150000
DTSTAMP:20260421T175656
CREATED:20251218T102150Z
LAST-MODIFIED:20251218T102153Z
UID:63173-1768230000-1768230000@www.kloster-ettal.de
SUMMARY:Basilikaführung
DESCRIPTION:Erleben Sie die barocke Pracht der Basilika Ettal und erfahren Sie mehr über ihre Architektur\, das berühmte Gnadenbild und die jahrhundertealte Geschichte der Benediktiner. \n\nDauer: 30-45 Minuten\nKosten: 5\,00 € pro Person (Kinder bis 12 Jahre sind frei\, Jugendlichen zwischen 12-18 Jahren erhalten 50% Ermäßigung)\nEinschränkungen: An Feiertagen sowie bei klösterlichen Veranstaltungen und während Gottesdiensten finden die Führungen nicht statt
URL:https://www.kloster-ettal.de/event/basilikafuehrung-10/
LOCATION:Basilika
CATEGORIES:Führung
ATTACH;FMTTYPE=image/webp:https://www.kloster-ettal.de/wp-content/uploads/2025/03/fuehrung-durch-die-basilika.webp
END:VEVENT
BEGIN:VEVENT
DTSTART;TZID=Europe/Berlin:20260112T160000
DTEND;TZID=Europe/Berlin:20260112T160000
DTSTAMP:20260421T175656
CREATED:20251219T095537Z
LAST-MODIFIED:20251219T095544Z
UID:63237-1768233600-1768233600@www.kloster-ettal.de
SUMMARY:Liqueurmanufaktur-Führung
DESCRIPTION:In unserer Manufaktur entstehen nach überlieferten Rezepten edle Kräuterliköre und Destillate\, deren Herstellung wir Ihnen gerne näher bringen. \n\nDauer 45 Minuten\, inkl. Likörprobe\nKosten: 9\,00 € pro Person\nKinder bis 12 Jahre sind frei (Jugendliche zwischen 12 und 18 Jahre erhalten 50% Ermäßigung
URL:https://www.kloster-ettal.de/event/liqueurmanufaktur-fuehrung-10/
LOCATION:Liqueurmanufaktur\, Kaiser-Ludwig-Platz 1\, Ettal\, Bayern\, 82488\, Germany
CATEGORIES:Führung
ATTACH;FMTTYPE=image/webp:https://www.kloster-ettal.de/wp-content/uploads/2025/03/liqueurmanufaktur-fuehrung.webp
END:VEVENT
BEGIN:VEVENT
DTSTART;TZID=Europe/Berlin:20260112T180000
DTEND;TZID=Europe/Berlin:20260112T180000
DTSTAMP:20260421T175656
CREATED:20260113T155330Z
LAST-MODIFIED:20260113T155335Z
UID:63299-1768240800-1768240800@www.kloster-ettal.de
SUMMARY:Vesper
DESCRIPTION:
URL:https://www.kloster-ettal.de/event/vesper-6/
LOCATION:Gedächtniskapelle
CATEGORIES:Gottesdienst
ATTACH;FMTTYPE=image/webp:https://www.kloster-ettal.de/wp-content/uploads/2025/12/Gedaechtniskapelle.webp
END:VEVENT
BEGIN:VEVENT
DTSTART;TZID=Europe/Berlin:20260113T150000
DTEND;TZID=Europe/Berlin:20260113T150000
DTSTAMP:20260421T175656
CREATED:20251219T094244Z
LAST-MODIFIED:20251219T094247Z
UID:63203-1768316400-1768316400@www.kloster-ettal.de
SUMMARY:Brauereiführung
DESCRIPTION:Wir zeigen Ihnen\, wie das berühmte Ettaler Bier nach alter Handwerkstradition gebraut wird – mit anschließender Verkostung. \n\nDauer: 60 Minuten inkl. Bierprobe\nKosten: 12\,00 € pro Person\nKinder bis 12 Jahre frei (Jugendliche zwischen 12 und 18 Jahre: 50% Ermäßigung)
URL:https://www.kloster-ettal.de/event/brauereifuehrung-8/
LOCATION:Klosterbrauerei\, Kaiser-Ludwig-Platz 1\, Ettal\, Bayern\, 82488\, Germany
CATEGORIES:Führung
ATTACH;FMTTYPE=image/webp:https://www.kloster-ettal.de/wp-content/uploads/2025/03/brauereifuehrung-veranstaltung.webp
END:VEVENT
BEGIN:VEVENT
DTSTART;TZID=Europe/Berlin:20260113T180000
DTEND;TZID=Europe/Berlin:20260113T180000
DTSTAMP:20260421T175656
CREATED:20260113T155505Z
LAST-MODIFIED:20260113T155510Z
UID:63301-1768327200-1768327200@www.kloster-ettal.de
SUMMARY:Vesper
DESCRIPTION:
URL:https://www.kloster-ettal.de/event/vesper-7/
LOCATION:Gedächtniskapelle
CATEGORIES:Gottesdienst
ATTACH;FMTTYPE=image/webp:https://www.kloster-ettal.de/wp-content/uploads/2025/12/Gedaechtniskapelle.webp
END:VEVENT
BEGIN:VEVENT
DTSTART;TZID=Europe/Berlin:20260113T193000
DTEND;TZID=Europe/Berlin:20260113T193000
DTSTAMP:20260421T175656
CREATED:20260113T155609Z
LAST-MODIFIED:20260113T155613Z
UID:63303-1768332600-1768332600@www.kloster-ettal.de
SUMMARY:Eucharistiefeier
DESCRIPTION:
URL:https://www.kloster-ettal.de/event/eucharistiefeier-16/
LOCATION:Gedächtniskapelle
CATEGORIES:Gottesdienst
ATTACH;FMTTYPE=image/webp:https://www.kloster-ettal.de/wp-content/uploads/2025/12/Gedaechtniskapelle.webp
END:VEVENT
BEGIN:VEVENT
DTSTART;TZID=Europe/Berlin:20260114T060000
DTEND;TZID=Europe/Berlin:20260114T060000
DTSTAMP:20260421T175656
CREATED:20260113T155652Z
LAST-MODIFIED:20260113T155733Z
UID:63305-1768370400-1768370400@www.kloster-ettal.de
SUMMARY:Eucharistiefeier
DESCRIPTION:
URL:https://www.kloster-ettal.de/event/eucharistiefeier-17/
LOCATION:Gedächtniskapelle
CATEGORIES:Gottesdienst
ATTACH;FMTTYPE=image/webp:https://www.kloster-ettal.de/wp-content/uploads/2025/12/Gedaechtniskapelle.webp
END:VEVENT
BEGIN:VEVENT
DTSTART;TZID=Europe/Berlin:20260114T180000
DTEND;TZID=Europe/Berlin:20260114T180000
DTSTAMP:20260421T175656
CREATED:20260113T155844Z
LAST-MODIFIED:20260113T155848Z
UID:63308-1768413600-1768413600@www.kloster-ettal.de
SUMMARY:Vesper
DESCRIPTION:
URL:https://www.kloster-ettal.de/event/vesper-8/
LOCATION:Gedächtniskapelle
CATEGORIES:Gottesdienst
ATTACH;FMTTYPE=image/webp:https://www.kloster-ettal.de/wp-content/uploads/2025/12/Gedaechtniskapelle.webp
END:VEVENT
BEGIN:VEVENT
DTSTART;TZID=Europe/Berlin:20260115T150000
DTEND;TZID=Europe/Berlin:20260115T150000
DTSTAMP:20260421T175656
CREATED:20251218T102301Z
LAST-MODIFIED:20251218T102305Z
UID:63175-1768489200-1768489200@www.kloster-ettal.de
SUMMARY:Basilikaführung
DESCRIPTION:Erleben Sie die barocke Pracht der Basilika Ettal und erfahren Sie mehr über ihre Architektur\, das berühmte Gnadenbild und die jahrhundertealte Geschichte der Benediktiner. \n\nDauer: 30-45 Minuten\nKosten: 5\,00 € pro Person (Kinder bis 12 Jahre sind frei\, Jugendlichen zwischen 12-18 Jahren erhalten 50% Ermäßigung)\nEinschränkungen: An Feiertagen sowie bei klösterlichen Veranstaltungen und während Gottesdiensten finden die Führungen nicht statt
URL:https://www.kloster-ettal.de/event/basilikafuehrung-11/
LOCATION:Basilika
CATEGORIES:Führung
ATTACH;FMTTYPE=image/webp:https://www.kloster-ettal.de/wp-content/uploads/2025/03/fuehrung-durch-die-basilika.webp
END:VEVENT
BEGIN:VEVENT
DTSTART;TZID=Europe/Berlin:20260115T160000
DTEND;TZID=Europe/Berlin:20260115T160000
DTSTAMP:20260421T175656
CREATED:20251219T095625Z
LAST-MODIFIED:20251219T095629Z
UID:63238-1768492800-1768492800@www.kloster-ettal.de
SUMMARY:Liqueurmanufaktur-Führung
DESCRIPTION:In unserer Manufaktur entstehen nach überlieferten Rezepten edle Kräuterliköre und Destillate\, deren Herstellung wir Ihnen gerne näher bringen. \n\nDauer 45 Minuten\, inkl. Likörprobe\nKosten: 9\,00 € pro Person\nKinder bis 12 Jahre sind frei (Jugendliche zwischen 12 und 18 Jahre erhalten 50% Ermäßigung
URL:https://www.kloster-ettal.de/event/liqueurmanufaktur-fuehrung-11/
LOCATION:Liqueurmanufaktur\, Kaiser-Ludwig-Platz 1\, Ettal\, Bayern\, 82488\, Germany
CATEGORIES:Führung
ATTACH;FMTTYPE=image/webp:https://www.kloster-ettal.de/wp-content/uploads/2025/03/liqueurmanufaktur-fuehrung.webp
END:VEVENT
END:VCALENDAR