BEGIN:VCALENDAR
VERSION:2.0
PRODID:-//Kloster Ettal - ECPv6.15.20//NONSGML v1.0//EN
CALSCALE:GREGORIAN
METHOD:PUBLISH
X-ORIGINAL-URL:https://www.kloster-ettal.de
X-WR-CALDESC:Veranstaltungen für Kloster Ettal
REFRESH-INTERVAL;VALUE=DURATION:PT1H
X-Robots-Tag:noindex
X-PUBLISHED-TTL:PT1H
BEGIN:VTIMEZONE
TZID:Europe/Berlin
BEGIN:DAYLIGHT
TZOFFSETFROM:+0100
TZOFFSETTO:+0200
TZNAME:CEST
DTSTART:20240331T010000
END:DAYLIGHT
BEGIN:STANDARD
TZOFFSETFROM:+0200
TZOFFSETTO:+0100
TZNAME:CET
DTSTART:20241027T010000
END:STANDARD
BEGIN:DAYLIGHT
TZOFFSETFROM:+0100
TZOFFSETTO:+0200
TZNAME:CEST
DTSTART:20250330T010000
END:DAYLIGHT
BEGIN:STANDARD
TZOFFSETFROM:+0200
TZOFFSETTO:+0100
TZNAME:CET
DTSTART:20251026T010000
END:STANDARD
BEGIN:DAYLIGHT
TZOFFSETFROM:+0100
TZOFFSETTO:+0200
TZNAME:CEST
DTSTART:20260329T010000
END:DAYLIGHT
BEGIN:STANDARD
TZOFFSETFROM:+0200
TZOFFSETTO:+0100
TZNAME:CET
DTSTART:20261025T010000
END:STANDARD
END:VTIMEZONE
BEGIN:VEVENT
DTSTART;TZID=Europe/Berlin:20251220T160000
DTEND;TZID=Europe/Berlin:20251220T170000
DTSTAMP:20260421T193127
CREATED:20251128T180148Z
LAST-MODIFIED:20251202T084734Z
UID:63028-1766246400-1766250000@www.kloster-ettal.de
SUMMARY:Konzert zum Advent und Weihnachten
DESCRIPTION:In der stillen Erwartung auf die Geburt unseres Herrn lädt das Kloster Ettal ein zu einem festlichen Konzert im Geist des Advents. Unter dem Titel „Macht hoch die Tür“ erklingen adventliche und weihnachtliche Weisen\, dargebracht vom Werdenfelser Bläserquartett und dem Mühlrad’l G’sang. \nEin Abend des gemeinsamen Hörens\, Singens und inneren Einstimmens auf das Kommen Christi.
URL:https://www.kloster-ettal.de/event/konzert-zum-advent-und-weihnachten/
LOCATION:Basilika
CATEGORIES:Konzert
ATTACH;FMTTYPE=image/webp:https://www.kloster-ettal.de/wp-content/uploads/2025/11/weihnachtskonzert-kloster-ettal.webp
END:VEVENT
BEGIN:VEVENT
DTSTART;TZID=Europe/Berlin:20251222T150000
DTEND;TZID=Europe/Berlin:20251222T150000
DTSTAMP:20260421T193127
CREATED:20251218T101246Z
LAST-MODIFIED:20251218T101251Z
UID:63161-1766415600-1766415600@www.kloster-ettal.de
SUMMARY:Basilikaführung
DESCRIPTION:Erleben Sie die barocke Pracht der Basilika Ettal und erfahren Sie mehr über ihre Architektur\, das berühmte Gnadenbild und die jahrhundertealte Geschichte der Benediktiner. \n\nDauer: 30-45 Minuten\nKosten: 5\,00 € pro Person (Kinder bis 12 Jahre sind frei\, Jugendlichen zwischen 12-18 Jahren erhalten 50% Ermäßigung)\nEinschränkungen: An Feiertagen sowie bei klösterlichen Veranstaltungen und während Gottesdiensten finden die Führungen nicht statt
URL:https://www.kloster-ettal.de/event/basilikafuehrung-6/
LOCATION:Basilika
CATEGORIES:Führung
ATTACH;FMTTYPE=image/webp:https://www.kloster-ettal.de/wp-content/uploads/2025/03/fuehrung-durch-die-basilika.webp
END:VEVENT
BEGIN:VEVENT
DTSTART;TZID=Europe/Berlin:20251222T160000
DTEND;TZID=Europe/Berlin:20251222T160000
DTSTAMP:20260421T193127
CREATED:20251218T101605Z
LAST-MODIFIED:20251218T101608Z
UID:63165-1766419200-1766419200@www.kloster-ettal.de
SUMMARY:Liqueurmanufaktur-Führung
DESCRIPTION:In unserer Manufaktur entstehen nach überlieferten Rezepten edle Kräuterliköre und Destillate\, deren Herstellung wir Ihnen gerne näher bringen. \n\nDauer 45 Minuten\, inkl. Likörprobe\nKosten: 9\,00 € pro Person\nKinder bis 12 Jahre sind frei (Jugendliche zwischen 12 und 18 Jahre erhalten 50% Ermäßigung
URL:https://www.kloster-ettal.de/event/liqueurmanufaktur-fuehrung-6/
LOCATION:Liqueurmanufaktur\, Kaiser-Ludwig-Platz 1\, Ettal\, Bayern\, 82488\, Germany
CATEGORIES:Führung
ATTACH;FMTTYPE=image/webp:https://www.kloster-ettal.de/wp-content/uploads/2025/03/liqueurmanufaktur-fuehrung.webp
END:VEVENT
BEGIN:VEVENT
DTSTART;TZID=Europe/Berlin:20251223T150000
DTEND;TZID=Europe/Berlin:20251223T150000
DTSTAMP:20260421T193127
CREATED:20251218T101434Z
LAST-MODIFIED:20251218T101437Z
UID:63163-1766502000-1766502000@www.kloster-ettal.de
SUMMARY:Brauereiführung
DESCRIPTION:Wir zeigen Ihnen\, wie das berühmte Ettaler Bier nach alter Handwerkstradition gebraut wird – mit anschließender Verkostung. \n\nDauer: 60 Minuten inkl. Bierprobe\nKosten: 12\,00 € pro Person\nKinder bis 12 Jahre frei (Jugendliche zwischen 12 und 18 Jahre: 50% Ermäßigung)
URL:https://www.kloster-ettal.de/event/brauereifuehrung/
LOCATION:Klosterbrauerei\, Kaiser-Ludwig-Platz 1\, Ettal\, Bayern\, 82488\, Germany
CATEGORIES:Führung
ATTACH;FMTTYPE=image/webp:https://www.kloster-ettal.de/wp-content/uploads/2025/03/brauereifuehrung-veranstaltung.webp
END:VEVENT
BEGIN:VEVENT
DTSTART;TZID=Europe/Berlin:20251224T064500
DTEND;TZID=Europe/Berlin:20251224T064500
DTSTAMP:20260421T193127
CREATED:20251209T091127Z
LAST-MODIFIED:20251209T091256Z
UID:63108-1766558700-1766558700@www.kloster-ettal.de
SUMMARY:Eucharistiefeier
DESCRIPTION:Der Gottesdienst findet in der Gedächtniskapelle statt.
URL:https://www.kloster-ettal.de/event/eucharistiefeier-7/
LOCATION:Gedächtniskapelle
CATEGORIES:Gottesdienst
ATTACH;FMTTYPE=image/webp:https://www.kloster-ettal.de/wp-content/uploads/2025/12/Gedaechtniskapelle.webp
END:VEVENT
BEGIN:VEVENT
DTSTART;TZID=Europe/Berlin:20251224T163000
DTEND;TZID=Europe/Berlin:20251224T163000
DTSTAMP:20260421T193127
CREATED:20251209T090919Z
LAST-MODIFIED:20251209T091219Z
UID:63105-1766593800-1766593800@www.kloster-ettal.de
SUMMARY:Verkündigung der Geburt Christi und Pontifikalvesper
DESCRIPTION:Der Gottesdienst findet in der Basilika statt.
URL:https://www.kloster-ettal.de/event/verkuendigung-der-geburt-christi-und-pontifikalvesper/
LOCATION:Basilika
CATEGORIES:Gottesdienst
ATTACH;FMTTYPE=image/webp:https://www.kloster-ettal.de/wp-content/uploads/2025/12/Gottesdienst.webp
END:VEVENT
BEGIN:VEVENT
DTSTART;TZID=Europe/Berlin:20251224T230000
DTEND;TZID=Europe/Berlin:20251224T230000
DTSTAMP:20260421T193127
CREATED:20251209T091751Z
LAST-MODIFIED:20251209T091802Z
UID:63110-1766617200-1766617200@www.kloster-ettal.de
SUMMARY:Christmette
DESCRIPTION:Der Gottesdienst findet in der Basilika statt und wird feierlich mit der Pastoralmesse von Karl Kempter musikalisch gestaltet.
URL:https://www.kloster-ettal.de/event/christmette/
LOCATION:Basilika
CATEGORIES:Gottesdienst
ATTACH;FMTTYPE=image/webp:https://www.kloster-ettal.de/wp-content/uploads/2025/12/Gottesdienst.webp
END:VEVENT
BEGIN:VEVENT
DTSTART;TZID=Europe/Berlin:20251225T070000
DTEND;TZID=Europe/Berlin:20251225T070000
DTSTAMP:20260421T193127
CREATED:20251209T091952Z
LAST-MODIFIED:20251217T141904Z
UID:63112-1766646000-1766646000@www.kloster-ettal.de
SUMMARY:Feierliche Laudes
DESCRIPTION:Der Gottesdienst findet in der Basilika statt.
URL:https://www.kloster-ettal.de/event/feierliche-laudes/
LOCATION:Basilika
CATEGORIES:Gottesdienst
ATTACH;FMTTYPE=image/webp:https://www.kloster-ettal.de/wp-content/uploads/2025/12/Gottesdienst.webp
END:VEVENT
BEGIN:VEVENT
DTSTART;TZID=Europe/Berlin:20251225T080000
DTEND;TZID=Europe/Berlin:20251225T080000
DTSTAMP:20260421T193127
CREATED:20251209T092153Z
LAST-MODIFIED:20251217T141853Z
UID:63114-1766649600-1766649600@www.kloster-ettal.de
SUMMARY:Eucharistiefeier mit Harfenmusik
DESCRIPTION:Der Gottesdienst findet in der Basilika statt und wird mit Harfenmusik musikalisch begleitet.
URL:https://www.kloster-ettal.de/event/eucharistiefeier-mit-harfenmusik/
LOCATION:Basilika
CATEGORIES:Gottesdienst
ATTACH;FMTTYPE=image/webp:https://www.kloster-ettal.de/wp-content/uploads/2025/12/Gottesdienst.webp
END:VEVENT
BEGIN:VEVENT
DTSTART;TZID=Europe/Berlin:20251225T103000
DTEND;TZID=Europe/Berlin:20251225T103000
DTSTAMP:20260421T193127
CREATED:20251209T092315Z
LAST-MODIFIED:20251217T141842Z
UID:63116-1766658600-1766658600@www.kloster-ettal.de
SUMMARY:Pontifikalamt
DESCRIPTION:Der Gottesdienst findet in der Basilika statt.
URL:https://www.kloster-ettal.de/event/pontifikalamt-2/
LOCATION:Basilika
CATEGORIES:Gottesdienst
ATTACH;FMTTYPE=image/webp:https://www.kloster-ettal.de/wp-content/uploads/2025/12/Gottesdienst.webp
END:VEVENT
BEGIN:VEVENT
DTSTART;TZID=Europe/Berlin:20251225T163000
DTEND;TZID=Europe/Berlin:20251225T163000
DTSTAMP:20260421T193127
CREATED:20251209T092702Z
LAST-MODIFIED:20251217T141752Z
UID:63118-1766680200-1766680200@www.kloster-ettal.de
SUMMARY:Pontifikalvesper
DESCRIPTION:Der Gottesdienst findet in der Basilika statt.
URL:https://www.kloster-ettal.de/event/pontifikalvesper-3/
LOCATION:Basilika
CATEGORIES:Gottesdienst
ATTACH;FMTTYPE=image/webp:https://www.kloster-ettal.de/wp-content/uploads/2025/12/Gottesdienst.webp
END:VEVENT
BEGIN:VEVENT
DTSTART;TZID=Europe/Berlin:20251226T080000
DTEND;TZID=Europe/Berlin:20251226T080000
DTSTAMP:20260421T193127
CREATED:20251209T092918Z
LAST-MODIFIED:20251209T092924Z
UID:63120-1766736000-1766736000@www.kloster-ettal.de
SUMMARY:Eucharistiefeier
DESCRIPTION:Der Gottesdienst findet in der Gedächtniskapelle statt.
URL:https://www.kloster-ettal.de/event/eucharistiefeier-6/
LOCATION:Gedächtniskapelle
CATEGORIES:Gottesdienst
ATTACH;FMTTYPE=image/webp:https://www.kloster-ettal.de/wp-content/uploads/2025/12/Gedaechtniskapelle.webp
END:VEVENT
BEGIN:VEVENT
DTSTART;TZID=Europe/Berlin:20251226T103000
DTEND;TZID=Europe/Berlin:20251226T103000
DTSTAMP:20260421T193127
CREATED:20251209T093027Z
LAST-MODIFIED:20251209T093031Z
UID:63122-1766745000-1766745000@www.kloster-ettal.de
SUMMARY:Eucharistiefeier
DESCRIPTION:Der Gottesdienst findet in der Basilika statt.
URL:https://www.kloster-ettal.de/event/eucharistiefeier-8/
LOCATION:Basilika
CATEGORIES:Gottesdienst
ATTACH;FMTTYPE=image/webp:https://www.kloster-ettal.de/wp-content/uploads/2025/12/Gottesdienst.webp
END:VEVENT
BEGIN:VEVENT
DTSTART;TZID=Europe/Berlin:20251226T180000
DTEND;TZID=Europe/Berlin:20251226T180000
DTSTAMP:20260421T193127
CREATED:20251209T093153Z
LAST-MODIFIED:20251209T093348Z
UID:63124-1766772000-1766772000@www.kloster-ettal.de
SUMMARY:Feierliche Vesper
DESCRIPTION:Der Gottesdienst findet in der Basilika statt.
URL:https://www.kloster-ettal.de/event/feierliche-vesper-3/
LOCATION:Basilika
CATEGORIES:Gottesdienst
ATTACH;FMTTYPE=image/webp:https://www.kloster-ettal.de/wp-content/uploads/2025/12/Gottesdienst.webp
END:VEVENT
BEGIN:VEVENT
DTSTART;TZID=Europe/Berlin:20251226T193000
DTEND;TZID=Europe/Berlin:20251226T193000
DTSTAMP:20260421T193127
CREATED:20251209T093517Z
LAST-MODIFIED:20251209T093521Z
UID:63126-1766777400-1766777400@www.kloster-ettal.de
SUMMARY:Komplet
DESCRIPTION:
URL:https://www.kloster-ettal.de/event/komplet/
LOCATION:Bayern
CATEGORIES:Gottesdienst
END:VEVENT
BEGIN:VEVENT
DTSTART;TZID=Europe/Berlin:20251227T064500
DTEND;TZID=Europe/Berlin:20251227T064500
DTSTAMP:20260421T193127
CREATED:20251209T093818Z
LAST-MODIFIED:20251209T093822Z
UID:63128-1766817900-1766817900@www.kloster-ettal.de
SUMMARY:Eucharistiefeier
DESCRIPTION:Der Gottesdienst findet in der Gedächtniskapelle statt.
URL:https://www.kloster-ettal.de/event/eucharistiefeier-9/
LOCATION:Gedächtniskapelle
CATEGORIES:Gottesdienst
ATTACH;FMTTYPE=image/webp:https://www.kloster-ettal.de/wp-content/uploads/2025/12/Gedaechtniskapelle.webp
END:VEVENT
BEGIN:VEVENT
DTSTART;TZID=Europe/Berlin:20251227T160000
DTEND;TZID=Europe/Berlin:20251227T160000
DTSTAMP:20260421T193127
CREATED:20251209T094256Z
LAST-MODIFIED:20251209T094301Z
UID:63130-1766851200-1766851200@www.kloster-ettal.de
SUMMARY:Weihnachtliche Musik mit Cello und Orgel
DESCRIPTION:Die Veranstaltung findet in der Gedächtniskapelle statt.
URL:https://www.kloster-ettal.de/event/weihnachtliche-musik-mit-cello-und-orgel/
LOCATION:Gedächtniskapelle
CATEGORIES:Konzert
ATTACH;FMTTYPE=image/webp:https://www.kloster-ettal.de/wp-content/uploads/2025/12/Gedaechtniskapelle.webp
END:VEVENT
BEGIN:VEVENT
DTSTART;TZID=Europe/Berlin:20251227T180000
DTEND;TZID=Europe/Berlin:20251227T180000
DTSTAMP:20260421T193127
CREATED:20251209T094352Z
LAST-MODIFIED:20251209T094400Z
UID:63132-1766858400-1766858400@www.kloster-ettal.de
SUMMARY:Vesper
DESCRIPTION:
URL:https://www.kloster-ettal.de/event/vesper-2/
LOCATION:Bayern
CATEGORIES:Gottesdienst
END:VEVENT
BEGIN:VEVENT
DTSTART;TZID=Europe/Berlin:20251228T064500
DTEND;TZID=Europe/Berlin:20251228T064500
DTSTAMP:20260421T193127
CREATED:20251209T094523Z
LAST-MODIFIED:20251209T094528Z
UID:63134-1766904300-1766904300@www.kloster-ettal.de
SUMMARY:Eucharistiefeier
DESCRIPTION:Der Gottesdienst findet in der Gedächtniskapelle statt.
URL:https://www.kloster-ettal.de/event/eucharistiefeier-10/
LOCATION:Gedächtniskapelle
CATEGORIES:Gottesdienst
ATTACH;FMTTYPE=image/webp:https://www.kloster-ettal.de/wp-content/uploads/2025/12/Gedaechtniskapelle.webp
END:VEVENT
BEGIN:VEVENT
DTSTART;TZID=Europe/Berlin:20251228T103000
DTEND;TZID=Europe/Berlin:20251228T103000
DTSTAMP:20260421T193127
CREATED:20251209T094642Z
LAST-MODIFIED:20251209T094647Z
UID:63136-1766917800-1766917800@www.kloster-ettal.de
SUMMARY:Eucharistiefeier
DESCRIPTION:Der Gottesdienst findet in der Basilika statt.
URL:https://www.kloster-ettal.de/event/eucharistiefeier-11/
LOCATION:Basilika
CATEGORIES:Gottesdienst
ATTACH;FMTTYPE=image/webp:https://www.kloster-ettal.de/wp-content/uploads/2025/12/Gottesdienst.webp
END:VEVENT
BEGIN:VEVENT
DTSTART;TZID=Europe/Berlin:20251228T170000
DTEND;TZID=Europe/Berlin:20251228T180000
DTSTAMP:20260421T193127
CREATED:20251209T095841Z
LAST-MODIFIED:20251209T095924Z
UID:63138-1766941200-1766944800@www.kloster-ettal.de
SUMMARY:Ballonglühen
DESCRIPTION:Das Ballonglühen findet im Innenhof des Klosters statt. Für Musik\, Essen und warme Getränke ist gesorgt.
URL:https://www.kloster-ettal.de/event/ballongluehen/
LOCATION:Privat: Innenhof Kloster\, Kaiser-Ludwig-Platz 1\, Ettal\, Bayern\, 82488\, Germany
CATEGORIES:Sonstiges
ATTACH;FMTTYPE=image/webp:https://www.kloster-ettal.de/wp-content/uploads/2025/12/Ballongluehen-Kloster-Ettal.webp
END:VEVENT
BEGIN:VEVENT
DTSTART;TZID=Europe/Berlin:20251228T180000
DTEND;TZID=Europe/Berlin:20251228T180000
DTSTAMP:20260421T193127
CREATED:20251209T100014Z
LAST-MODIFIED:20251209T100020Z
UID:63142-1766944800-1766944800@www.kloster-ettal.de
SUMMARY:Vesper
DESCRIPTION:
URL:https://www.kloster-ettal.de/event/vesper-3/
LOCATION:Bayern
CATEGORIES:Gottesdienst
END:VEVENT
BEGIN:VEVENT
DTSTART;TZID=Europe/Berlin:20251229T064500
DTEND;TZID=Europe/Berlin:20251229T064500
DTSTAMP:20260421T193127
CREATED:20251209T100122Z
LAST-MODIFIED:20251209T100127Z
UID:63144-1766990700-1766990700@www.kloster-ettal.de
SUMMARY:Eucharistiefeier
DESCRIPTION:Der Gottesdienst findet in der Gedächtniskapelle statt.
URL:https://www.kloster-ettal.de/event/eucharistiefeier-12/
LOCATION:Gedächtniskapelle
CATEGORIES:Gottesdienst
ATTACH;FMTTYPE=image/webp:https://www.kloster-ettal.de/wp-content/uploads/2025/12/Gedaechtniskapelle.webp
END:VEVENT
BEGIN:VEVENT
DTSTART;TZID=Europe/Berlin:20251229T150000
DTEND;TZID=Europe/Berlin:20251229T150000
DTSTAMP:20260421T193127
CREATED:20251218T101831Z
LAST-MODIFIED:20251218T101842Z
UID:63167-1767020400-1767020400@www.kloster-ettal.de
SUMMARY:Basilikaführung
DESCRIPTION:Erleben Sie die barocke Pracht der Basilika Ettal und erfahren Sie mehr über ihre Architektur\, das berühmte Gnadenbild und die jahrhundertealte Geschichte der Benediktiner. \n\nDauer: 30-45 Minuten\nKosten: 5\,00 € pro Person (Kinder bis 12 Jahre sind frei\, Jugendlichen zwischen 12-18 Jahren erhalten 50% Ermäßigung)\nEinschränkungen: An Feiertagen sowie bei klösterlichen Veranstaltungen und während Gottesdiensten finden die Führungen nicht statt
URL:https://www.kloster-ettal.de/event/basilikafuehrung-7/
LOCATION:Basilika
CATEGORIES:Führung
ATTACH;FMTTYPE=image/webp:https://www.kloster-ettal.de/wp-content/uploads/2025/03/fuehrung-durch-die-basilika.webp
END:VEVENT
BEGIN:VEVENT
DTSTART;TZID=Europe/Berlin:20251229T160000
DTEND;TZID=Europe/Berlin:20251229T160000
DTSTAMP:20260421T193127
CREATED:20251219T095046Z
LAST-MODIFIED:20251219T095058Z
UID:63232-1767024000-1767024000@www.kloster-ettal.de
SUMMARY:Liqueurmanufaktur-Führung
DESCRIPTION:In unserer Manufaktur entstehen nach überlieferten Rezepten edle Kräuterliköre und Destillate\, deren Herstellung wir Ihnen gerne näher bringen. \n\nDauer 45 Minuten\, inkl. Likörprobe\nKosten: 9\,00 € pro Person\nKinder bis 12 Jahre sind frei (Jugendliche zwischen 12 und 18 Jahre erhalten 50% Ermäßigung
URL:https://www.kloster-ettal.de/event/liqueurmanufaktur-fuehrung-7/
LOCATION:Liqueurmanufaktur\, Kaiser-Ludwig-Platz 1\, Ettal\, Bayern\, 82488\, Germany
CATEGORIES:Führung
ATTACH;FMTTYPE=image/webp:https://www.kloster-ettal.de/wp-content/uploads/2025/03/liqueurmanufaktur-fuehrung.webp
END:VEVENT
BEGIN:VEVENT
DTSTART;TZID=Europe/Berlin:20251229T180000
DTEND;TZID=Europe/Berlin:20251229T180000
DTSTAMP:20260421T193127
CREATED:20251209T100206Z
LAST-MODIFIED:20251209T100214Z
UID:63146-1767031200-1767031200@www.kloster-ettal.de
SUMMARY:Vesper
DESCRIPTION:
URL:https://www.kloster-ettal.de/event/vesper-4/
LOCATION:Bayern
CATEGORIES:Gottesdienst
END:VEVENT
BEGIN:VEVENT
DTSTART;TZID=Europe/Berlin:20251231T064500
DTEND;TZID=Europe/Berlin:20251231T064500
DTSTAMP:20260421T193128
CREATED:20251208T151053Z
LAST-MODIFIED:20251208T155935Z
UID:63056-1767163500-1767163500@www.kloster-ettal.de
SUMMARY:Eucharistiefeier
DESCRIPTION:Der Gottesdienst findet in der Gedächtniskapelle statt.
URL:https://www.kloster-ettal.de/event/eucharistiefeier-in-der-gedaechtniskapelle/
LOCATION:Gedächtniskapelle
CATEGORIES:Gottesdienst
ATTACH;FMTTYPE=image/webp:https://www.kloster-ettal.de/wp-content/uploads/2025/12/Gedaechtniskapelle.webp
END:VEVENT
BEGIN:VEVENT
DTSTART;TZID=Europe/Berlin:20251231T163000
DTEND;TZID=Europe/Berlin:20251231T163000
DTSTAMP:20260421T193128
CREATED:20251208T152117Z
LAST-MODIFIED:20251208T155920Z
UID:63064-1767198600-1767198600@www.kloster-ettal.de
SUMMARY:Feierliche Vesper
DESCRIPTION:Der Gottesdienst findet in der Basilika statt. Im Anschluss spenden wir den Segen für das Dorf und das umliegende Bergtal. Danach laden wir zur Neujahrsgratulation im Klosterhof ein.
URL:https://www.kloster-ettal.de/event/feierliche-vesper/
LOCATION:Basilika
CATEGORIES:Gottesdienst
ATTACH;FMTTYPE=image/webp:https://www.kloster-ettal.de/wp-content/uploads/2025/12/Gottesdienst.webp
END:VEVENT
END:VCALENDAR