BEGIN:VCALENDAR
VERSION:2.0
PRODID:-//Kloster Ettal - ECPv6.15.20//NONSGML v1.0//EN
CALSCALE:GREGORIAN
METHOD:PUBLISH
X-ORIGINAL-URL:https://www.kloster-ettal.de
X-WR-CALDESC:Veranstaltungen für Kloster Ettal
REFRESH-INTERVAL;VALUE=DURATION:PT1H
X-Robots-Tag:noindex
X-PUBLISHED-TTL:PT1H
BEGIN:VTIMEZONE
TZID:Europe/Berlin
BEGIN:DAYLIGHT
TZOFFSETFROM:+0100
TZOFFSETTO:+0200
TZNAME:CEST
DTSTART:20240331T010000
END:DAYLIGHT
BEGIN:STANDARD
TZOFFSETFROM:+0200
TZOFFSETTO:+0100
TZNAME:CET
DTSTART:20241027T010000
END:STANDARD
BEGIN:DAYLIGHT
TZOFFSETFROM:+0100
TZOFFSETTO:+0200
TZNAME:CEST
DTSTART:20250330T010000
END:DAYLIGHT
BEGIN:STANDARD
TZOFFSETFROM:+0200
TZOFFSETTO:+0100
TZNAME:CET
DTSTART:20251026T010000
END:STANDARD
BEGIN:DAYLIGHT
TZOFFSETFROM:+0100
TZOFFSETTO:+0200
TZNAME:CEST
DTSTART:20260329T010000
END:DAYLIGHT
BEGIN:STANDARD
TZOFFSETFROM:+0200
TZOFFSETTO:+0100
TZNAME:CET
DTSTART:20261025T010000
END:STANDARD
END:VTIMEZONE
BEGIN:VEVENT
DTSTART;TZID=Europe/Berlin:20251023T150000
DTEND;TZID=Europe/Berlin:20251023T150000
DTSTAMP:20260421T225635
CREATED:20250310T164035Z
LAST-MODIFIED:20251020T103607Z
UID:15192-1761231600-1761231600@www.kloster-ettal.de
SUMMARY:Basilikaführung
DESCRIPTION:Erleben Sie die barocke Pracht der Basilika Ettal und erfahren Sie mehr über ihre Architektur\, das berühmte Gnadenbild und die jahrhundertealte Geschichte der Benediktiner. \n\nDauer: 30-45 Minuten\nKosten: 5\,00 € pro Person (Kinder bis 12 Jahre sind frei\, Jugendlichen zwischen 12-18 Jahren erhalten 50% Ermäßigung)\nEinschränkungen: An Feiertagen sowie bei klösterlichen Veranstaltungen und während Gottesdiensten finden die Führungen nicht statt
URL:https://www.kloster-ettal.de/event/basilikafuehrung/
LOCATION:Basilika
CATEGORIES:Führung
ATTACH;FMTTYPE=image/webp:https://www.kloster-ettal.de/wp-content/uploads/2025/03/fuehrung-durch-die-basilika.webp
END:VEVENT
BEGIN:VEVENT
DTSTART;TZID=Europe/Berlin:20251023T160000
DTEND;TZID=Europe/Berlin:20251023T160000
DTSTAMP:20260421T225635
CREATED:20250310T164711Z
LAST-MODIFIED:20251020T100129Z
UID:15198-1761235200-1761235200@www.kloster-ettal.de
SUMMARY:Liqueurmanufaktur-Führung
DESCRIPTION:In unserer Manufaktur entstehen nach überlieferten Rezepten edle Kräuterliköre und Destillate\, deren Herstellung wir Ihnen gerne näher bringen. \n\nDauer 45 Minuten\, inkl. Likörprobe\nKosten: 9\,00 € pro Person\nKinder bis 12 Jahre sind frei (Jugendliche zwischen 12 und 18 Jahre erhalten 50% Ermäßigung
URL:https://www.kloster-ettal.de/event/liqueurmanufaktur-fuehrung/
LOCATION:Liqueurmanufaktur\, Kaiser-Ludwig-Platz 1\, Ettal\, Bayern\, 82488\, Germany
CATEGORIES:Führung
ATTACH;FMTTYPE=image/webp:https://www.kloster-ettal.de/wp-content/uploads/2025/03/liqueurmanufaktur-fuehrung.webp
END:VEVENT
BEGIN:VEVENT
DTSTART;TZID=Europe/Berlin:20251024T150000
DTEND;TZID=Europe/Berlin:20251024T150000
DTSTAMP:20260421T225635
CREATED:20251020T102757Z
LAST-MODIFIED:20251020T102757Z
UID:62865-1761318000-1761318000@www.kloster-ettal.de
SUMMARY:Brauereiführung
DESCRIPTION:Wir zeigen Ihnen\, wie das berühmte Ettaler Bier nach alter Handwerkstradition gebraut wird – mit anschließender Verkostung. \n\nDauer: 60 Minuten inkl. Bierprobe\nKosten: 12\,00 € pro Person\nKinder bis 12 Jahre frei (Jugendliche zwischen 12 und 18 Jahre: 50% Ermäßigung)
URL:https://www.kloster-ettal.de/event/brauereifuehrung-2/
LOCATION:Klosterbrauerei\, Kaiser-Ludwig-Platz 1\, Ettal\, Bayern\, 82488\, Germany
CATEGORIES:Führung
ATTACH;FMTTYPE=image/webp:https://www.kloster-ettal.de/wp-content/uploads/2025/03/brauereifuehrung-veranstaltung.webp
END:VEVENT
BEGIN:VEVENT
DTSTART;TZID=Europe/Berlin:20251027T150000
DTEND;TZID=Europe/Berlin:20251027T150000
DTSTAMP:20260421T225635
CREATED:20251020T103103Z
LAST-MODIFIED:20251020T103621Z
UID:62875-1761577200-1761577200@www.kloster-ettal.de
SUMMARY:Basilikaführung
DESCRIPTION:Erleben Sie die barocke Pracht der Basilika Ettal und erfahren Sie mehr über ihre Architektur\, das berühmte Gnadenbild und die jahrhundertealte Geschichte der Benediktiner. \n\nDauer: 30-45 Minuten\nKosten: 5\,00 € pro Person (Kinder bis 12 Jahre sind frei\, Jugendlichen zwischen 12-18 Jahren erhalten 50% Ermäßigung)\nEinschränkungen: An Feiertagen sowie bei klösterlichen Veranstaltungen und während Gottesdiensten finden die Führungen nicht statt
URL:https://www.kloster-ettal.de/event/basilikafuehrung-2/
LOCATION:Basilika
CATEGORIES:Führung
ATTACH;FMTTYPE=image/webp:https://www.kloster-ettal.de/wp-content/uploads/2025/03/fuehrung-durch-die-basilika.webp
END:VEVENT
BEGIN:VEVENT
DTSTART;TZID=Europe/Berlin:20251027T160000
DTEND;TZID=Europe/Berlin:20251027T160000
DTSTAMP:20260421T225635
CREATED:20251020T100332Z
LAST-MODIFIED:20251020T100332Z
UID:62853-1761580800-1761580800@www.kloster-ettal.de
SUMMARY:Liqueurmanufaktur-Führung
DESCRIPTION:In unserer Manufaktur entstehen nach überlieferten Rezepten edle Kräuterliköre und Destillate\, deren Herstellung wir Ihnen gerne näher bringen. \n\nDauer 45 Minuten\, inkl. Likörprobe\nKosten: 9\,00 € pro Person\nKinder bis 12 Jahre sind frei (Jugendliche zwischen 12 und 18 Jahre erhalten 50% Ermäßigung
URL:https://www.kloster-ettal.de/event/liqueurmanufaktur-fuehrung-2/
LOCATION:Liqueurmanufaktur\, Kaiser-Ludwig-Platz 1\, Ettal\, Bayern\, 82488\, Germany
CATEGORIES:Führung
ATTACH;FMTTYPE=image/webp:https://www.kloster-ettal.de/wp-content/uploads/2025/03/liqueurmanufaktur-fuehrung.webp
END:VEVENT
BEGIN:VEVENT
DTSTART;TZID=Europe/Berlin:20251028T150000
DTEND;TZID=Europe/Berlin:20251028T150000
DTSTAMP:20260421T225635
CREATED:20251020T102841Z
LAST-MODIFIED:20251020T102841Z
UID:62867-1761663600-1761663600@www.kloster-ettal.de
SUMMARY:Brauereiführung
DESCRIPTION:Wir zeigen Ihnen\, wie das berühmte Ettaler Bier nach alter Handwerkstradition gebraut wird – mit anschließender Verkostung. \n\nDauer: 60 Minuten inkl. Bierprobe\nKosten: 12\,00 € pro Person\nKinder bis 12 Jahre frei (Jugendliche zwischen 12 und 18 Jahre: 50% Ermäßigung)
URL:https://www.kloster-ettal.de/event/brauereifuehrung-3/
LOCATION:Klosterbrauerei\, Kaiser-Ludwig-Platz 1\, Ettal\, Bayern\, 82488\, Germany
CATEGORIES:Führung
ATTACH;FMTTYPE=image/webp:https://www.kloster-ettal.de/wp-content/uploads/2025/03/brauereifuehrung-veranstaltung.webp
END:VEVENT
BEGIN:VEVENT
DTSTART;TZID=Europe/Berlin:20251030T150000
DTEND;TZID=Europe/Berlin:20251030T150000
DTSTAMP:20260421T225635
CREATED:20251020T103134Z
LAST-MODIFIED:20251020T103629Z
UID:62877-1761836400-1761836400@www.kloster-ettal.de
SUMMARY:Basilikaführung
DESCRIPTION:Erleben Sie die barocke Pracht der Basilika Ettal und erfahren Sie mehr über ihre Architektur\, das berühmte Gnadenbild und die jahrhundertealte Geschichte der Benediktiner. \n\nDauer: 30-45 Minuten\nKosten: 5\,00 € pro Person (Kinder bis 12 Jahre sind frei\, Jugendlichen zwischen 12-18 Jahren erhalten 50% Ermäßigung)\nEinschränkungen: An Feiertagen sowie bei klösterlichen Veranstaltungen und während Gottesdiensten finden die Führungen nicht statt
URL:https://www.kloster-ettal.de/event/basilikafuehrung-3/
LOCATION:Basilika
CATEGORIES:Führung
ATTACH;FMTTYPE=image/webp:https://www.kloster-ettal.de/wp-content/uploads/2025/03/fuehrung-durch-die-basilika.webp
END:VEVENT
BEGIN:VEVENT
DTSTART;TZID=Europe/Berlin:20251030T160000
DTEND;TZID=Europe/Berlin:20251030T160000
DTSTAMP:20260421T225635
CREATED:20251020T101903Z
LAST-MODIFIED:20251020T101903Z
UID:62857-1761840000-1761840000@www.kloster-ettal.de
SUMMARY:Liqueurmanufaktur-Führung
DESCRIPTION:In unserer Manufaktur entstehen nach überlieferten Rezepten edle Kräuterliköre und Destillate\, deren Herstellung wir Ihnen gerne näher bringen. \n\nDauer 45 Minuten\, inkl. Likörprobe\nKosten: 9\,00 € pro Person\nKinder bis 12 Jahre sind frei (Jugendliche zwischen 12 und 18 Jahre erhalten 50% Ermäßigung
URL:https://www.kloster-ettal.de/event/liqueurmanufaktur-fuehrung-3/
LOCATION:Liqueurmanufaktur\, Kaiser-Ludwig-Platz 1\, Ettal\, Bayern\, 82488\, Germany
CATEGORIES:Führung
ATTACH;FMTTYPE=image/webp:https://www.kloster-ettal.de/wp-content/uploads/2025/03/liqueurmanufaktur-fuehrung.webp
END:VEVENT
BEGIN:VEVENT
DTSTART;TZID=Europe/Berlin:20251031T150000
DTEND;TZID=Europe/Berlin:20251031T150000
DTSTAMP:20260421T225635
CREATED:20251020T102858Z
LAST-MODIFIED:20251020T102858Z
UID:62869-1761922800-1761922800@www.kloster-ettal.de
SUMMARY:Brauereiführung
DESCRIPTION:Wir zeigen Ihnen\, wie das berühmte Ettaler Bier nach alter Handwerkstradition gebraut wird – mit anschließender Verkostung. \n\nDauer: 60 Minuten inkl. Bierprobe\nKosten: 12\,00 € pro Person\nKinder bis 12 Jahre frei (Jugendliche zwischen 12 und 18 Jahre: 50% Ermäßigung)
URL:https://www.kloster-ettal.de/event/brauereifuehrung-4/
LOCATION:Klosterbrauerei\, Kaiser-Ludwig-Platz 1\, Ettal\, Bayern\, 82488\, Germany
CATEGORIES:Führung
ATTACH;FMTTYPE=image/webp:https://www.kloster-ettal.de/wp-content/uploads/2025/03/brauereifuehrung-veranstaltung.webp
END:VEVENT
END:VCALENDAR